BEGIN:VCALENDAR
VERSION:2.0
PRODID:-//Fountain Valley Skating Center - ECPv6.15.12.2//NONSGML v1.0//EN
CALSCALE:GREGORIAN
METHOD:PUBLISH
X-ORIGINAL-URL:https://fvsc.com
X-WR-CALDESC:Events for Fountain Valley Skating Center
REFRESH-INTERVAL;VALUE=DURATION:PT1H
X-Robots-Tag:noindex
X-PUBLISHED-TTL:PT1H
BEGIN:VTIMEZONE
TZID:America/Los_Angeles
BEGIN:DAYLIGHT
TZOFFSETFROM:-0800
TZOFFSETTO:-0700
TZNAME:PDT
DTSTART:20230312T100000
END:DAYLIGHT
BEGIN:STANDARD
TZOFFSETFROM:-0700
TZOFFSETTO:-0800
TZNAME:PST
DTSTART:20231105T090000
END:STANDARD
BEGIN:DAYLIGHT
TZOFFSETFROM:-0800
TZOFFSETTO:-0700
TZNAME:PDT
DTSTART:20240310T100000
END:DAYLIGHT
BEGIN:STANDARD
TZOFFSETFROM:-0700
TZOFFSETTO:-0800
TZNAME:PST
DTSTART:20241103T090000
END:STANDARD
BEGIN:DAYLIGHT
TZOFFSETFROM:-0800
TZOFFSETTO:-0700
TZNAME:PDT
DTSTART:20250309T100000
END:DAYLIGHT
BEGIN:STANDARD
TZOFFSETFROM:-0700
TZOFFSETTO:-0800
TZNAME:PST
DTSTART:20251102T090000
END:STANDARD
END:VTIMEZONE
BEGIN:VEVENT
DTSTART;TZID=America/Los_Angeles:20240104T203000
DTEND;TZID=America/Los_Angeles:20240104T235900
DTSTAMP:20260421T141002
CREATED:20230926T014806Z
LAST-MODIFIED:20240501T210837Z
UID:10000004-1704400200-1704412740@fvsc.com
SUMMARY:R&B Night 25+ ($20)
DESCRIPTION:Dive into the ultimate R&B experience at our R&B Night\, exclusively for those 25 and older\, every Thursday from 8:30pm-12am. This session is the pinnacle of the week’s festivities\, featuring soulful R&B music and a vibe tailor-made for advanced skaters. It’s not just a skate; it’s a celebration of rhythm\, movement\, and pure joy on wheels. Join us for the most popular session of the week\, where every glide is a testament to the perfect harmony of music and skill. \nAdmission $20 / Skate Rental $7.50 \nPurchase Tickets Now: R&B Night Tickets \nNo passes or Groupons accepted at this time
URL:https://fvsc.com/event/rb-night-25-20/2024-01-04/
CATEGORIES:Adult Events
END:VEVENT
END:VCALENDAR