BEGIN:VCALENDAR
VERSION:2.0
PRODID:-//Fountain Valley Skating Center - ECPv6.15.12.2//NONSGML v1.0//EN
CALSCALE:GREGORIAN
METHOD:PUBLISH
X-ORIGINAL-URL:https://fvsc.com
X-WR-CALDESC:Events for Fountain Valley Skating Center
REFRESH-INTERVAL;VALUE=DURATION:PT1H
X-Robots-Tag:noindex
X-PUBLISHED-TTL:PT1H
BEGIN:VTIMEZONE
TZID:America/Los_Angeles
BEGIN:DAYLIGHT
TZOFFSETFROM:-0800
TZOFFSETTO:-0700
TZNAME:PDT
DTSTART:20230312T100000
END:DAYLIGHT
BEGIN:STANDARD
TZOFFSETFROM:-0700
TZOFFSETTO:-0800
TZNAME:PST
DTSTART:20231105T090000
END:STANDARD
BEGIN:DAYLIGHT
TZOFFSETFROM:-0800
TZOFFSETTO:-0700
TZNAME:PDT
DTSTART:20240310T100000
END:DAYLIGHT
BEGIN:STANDARD
TZOFFSETFROM:-0700
TZOFFSETTO:-0800
TZNAME:PST
DTSTART:20241103T090000
END:STANDARD
BEGIN:DAYLIGHT
TZOFFSETFROM:-0800
TZOFFSETTO:-0700
TZNAME:PDT
DTSTART:20250309T100000
END:DAYLIGHT
BEGIN:STANDARD
TZOFFSETFROM:-0700
TZOFFSETTO:-0800
TZNAME:PST
DTSTART:20251102T090000
END:STANDARD
END:VTIMEZONE
BEGIN:VEVENT
DTSTART;TZID=America/Los_Angeles:20240111T120000
DTEND;TZID=America/Los_Angeles:20240111T140000
DTSTAMP:20260421T173407
CREATED:20230926T014938Z
LAST-MODIFIED:20260211T160307Z
UID:10004117-1704974400-1704981600@fvsc.com
SUMMARY:School Recess ($15)
DESCRIPTION:You don’t have to be in home school to join the fun! Join our special roller-skating session designed just for kids and strollers. Hosted by Dirty Deborah Harry of YouTube’s Dirty School of Skate\, everyone is sure to have a fun-filled time. Here\, every child is welcome to skate\, and to make it even better\, one parent skates for free with each child! We’ve got everyone covered with free skate rentals\, making it the perfect opportunity to teach the little ones the joy of rolling. Our family-friendly environment ensures a safe and entertaining experience for everyone. \nAdmission $15 per child / Skate Rental Free / Parent Skates Free / Skate Mates Free \nNo passes or Groupons accepted at this time
URL:https://fvsc.com/event/school-recess-open-skate-15/2024-01-11/
CATEGORIES:Special Events
END:VEVENT
BEGIN:VEVENT
DTSTART;TZID=America/Los_Angeles:20240111T180000
DTEND;TZID=America/Los_Angeles:20240111T200000
DTSTAMP:20260421T173407
CREATED:20240104T235848Z
LAST-MODIFIED:20260312T200455Z
UID:10008393-1704996000-1705003200@fvsc.com
SUMMARY:Open Skating ($15)
DESCRIPTION:Join us from 6pm-8pm for a roller-skating experience like no other. With a diverse playlist catering to all music tastes\, our sessions are designed to keep everyone moving and grooving. From beginners to seasoned skaters\, our rink is open to all. Elevate your evening with a blend of thrilling games and the perfect soundtrack. \nAdmission $15 / Skate Rental $8 / Skate Mate Rental $7 \nPurchase Tickets Now: Open Skating Tickets
URL:https://fvsc.com/event/open-skating-14-2/2024-01-11/
CATEGORIES:Open Skating
END:VEVENT
BEGIN:VEVENT
DTSTART;TZID=America/Los_Angeles:20240111T203000
DTEND;TZID=America/Los_Angeles:20240111T235900
DTSTAMP:20260421T173407
CREATED:20230926T014806Z
LAST-MODIFIED:20240501T210837Z
UID:10000005-1705005000-1705017540@fvsc.com
SUMMARY:R&B Night 25+ ($20)
DESCRIPTION:Dive into the ultimate R&B experience at our R&B Night\, exclusively for those 25 and older\, every Thursday from 8:30pm-12am. This session is the pinnacle of the week’s festivities\, featuring soulful R&B music and a vibe tailor-made for advanced skaters. It’s not just a skate; it’s a celebration of rhythm\, movement\, and pure joy on wheels. Join us for the most popular session of the week\, where every glide is a testament to the perfect harmony of music and skill. \nAdmission $20 / Skate Rental $7.50 \nPurchase Tickets Now: R&B Night Tickets \nNo passes or Groupons accepted at this time
URL:https://fvsc.com/event/rb-night-25-20/2024-01-11/
CATEGORIES:Adult Events
END:VEVENT
END:VCALENDAR