BEGIN:VCALENDAR
VERSION:2.0
PRODID:-//Fountain Valley Skating Center - ECPv6.15.12.2//NONSGML v1.0//EN
CALSCALE:GREGORIAN
METHOD:PUBLISH
X-WR-CALNAME:Fountain Valley Skating Center
X-ORIGINAL-URL:https://fvsc.com
X-WR-CALDESC:Events for Fountain Valley Skating Center
REFRESH-INTERVAL;VALUE=DURATION:PT1H
X-Robots-Tag:noindex
X-PUBLISHED-TTL:PT1H
BEGIN:VTIMEZONE
TZID:America/Los_Angeles
BEGIN:DAYLIGHT
TZOFFSETFROM:-0800
TZOFFSETTO:-0700
TZNAME:PDT
DTSTART:20250309T100000
END:DAYLIGHT
BEGIN:STANDARD
TZOFFSETFROM:-0700
TZOFFSETTO:-0800
TZNAME:PST
DTSTART:20251102T090000
END:STANDARD
BEGIN:DAYLIGHT
TZOFFSETFROM:-0800
TZOFFSETTO:-0700
TZNAME:PDT
DTSTART:20260308T100000
END:DAYLIGHT
BEGIN:STANDARD
TZOFFSETFROM:-0700
TZOFFSETTO:-0800
TZNAME:PST
DTSTART:20261101T090000
END:STANDARD
BEGIN:DAYLIGHT
TZOFFSETFROM:-0800
TZOFFSETTO:-0700
TZNAME:PDT
DTSTART:20270314T100000
END:DAYLIGHT
BEGIN:STANDARD
TZOFFSETFROM:-0700
TZOFFSETTO:-0800
TZNAME:PST
DTSTART:20271107T090000
END:STANDARD
END:VTIMEZONE
BEGIN:VEVENT
DTSTART;TZID=America/Los_Angeles:20260703T120000
DTEND;TZID=America/Los_Angeles:20260703T153000
DTSTAMP:20260425T211654
CREATED:20251007T201224Z
LAST-MODIFIED:20260410T182655Z
UID:10024744-1783080000-1783092600@fvsc.com
SUMMARY:Club Practice 12pm-3:30pm
DESCRIPTION:Private Practice for Club Skaters only
URL:https://fvsc.com/event/club-practice-1200pm-330pm-2/2026-07-03/
CATEGORIES:Club Events
END:VEVENT
BEGIN:VEVENT
DTSTART;TZID=America/Los_Angeles:20260704T170000
DTEND;TZID=America/Los_Angeles:20260704T180000
DTSTAMP:20260425T211654
CREATED:20241104T172551Z
LAST-MODIFIED:20260402T204401Z
UID:10018854-1783184400-1783188000@fvsc.com
SUMMARY:Club Practice 5pm-6pm
DESCRIPTION:Private Practice for Club skaters only.
URL:https://fvsc.com/event/club-practice-5pm-6pm/2026-07-04/
CATEGORIES:Club Events
END:VEVENT
BEGIN:VEVENT
DTSTART;TZID=America/Los_Angeles:20260705T070000
DTEND;TZID=America/Los_Angeles:20260705T104500
DTSTAMP:20260425T211654
CREATED:20250412T172400Z
LAST-MODIFIED:20260410T183711Z
UID:10037121-1783234800-1783248300@fvsc.com
SUMMARY:Club Practice 7am-10:45am
DESCRIPTION:Private Practice for Club skaters only.
URL:https://fvsc.com/event/club-practice-7am-11am-2-2-2/2026-07-05/
CATEGORIES:Club Events
END:VEVENT
BEGIN:VEVENT
DTSTART;TZID=America/Los_Angeles:20260706T070000
DTEND;TZID=America/Los_Angeles:20260706T160000
DTSTAMP:20260425T211654
CREATED:20260420T164330Z
LAST-MODIFIED:20260422T204641Z
UID:10038597-1783321200-1783353600@fvsc.com
SUMMARY:Club Practice 7am-4pm
DESCRIPTION:Private Practice for Club Skaters only
URL:https://fvsc.com/event/club-practice-700pm-400pm-2/2026-07-06/
CATEGORIES:Club Events
END:VEVENT
BEGIN:VEVENT
DTSTART;TZID=America/Los_Angeles:20260707T200000
DTEND;TZID=America/Los_Angeles:20260707T230000
DTSTAMP:20260425T211654
CREATED:20250721T163605Z
LAST-MODIFIED:20250721T163606Z
UID:10007954-1783454400-1783465200@fvsc.com
SUMMARY:Club Practice 8pm-11pm
DESCRIPTION:Private Practice for Club skaters only.
URL:https://fvsc.com/event/club-practice-830pm-11pm-2-2-2-2-2/2026-07-07/
CATEGORIES:Club Events
END:VEVENT
BEGIN:VEVENT
DTSTART;TZID=America/Los_Angeles:20260710T120000
DTEND;TZID=America/Los_Angeles:20260710T153000
DTSTAMP:20260425T211654
CREATED:20251007T201224Z
LAST-MODIFIED:20260410T182655Z
UID:10024745-1783684800-1783697400@fvsc.com
SUMMARY:Club Practice 12pm-3:30pm
DESCRIPTION:Private Practice for Club Skaters only
URL:https://fvsc.com/event/club-practice-1200pm-330pm-2/2026-07-10/
CATEGORIES:Club Events
END:VEVENT
BEGIN:VEVENT
DTSTART;TZID=America/Los_Angeles:20260711T170000
DTEND;TZID=America/Los_Angeles:20260711T180000
DTSTAMP:20260425T211654
CREATED:20241104T172551Z
LAST-MODIFIED:20260402T204401Z
UID:10018855-1783789200-1783792800@fvsc.com
SUMMARY:Club Practice 5pm-6pm
DESCRIPTION:Private Practice for Club skaters only.
URL:https://fvsc.com/event/club-practice-5pm-6pm/2026-07-11/
CATEGORIES:Club Events
END:VEVENT
BEGIN:VEVENT
DTSTART;TZID=America/Los_Angeles:20260712T070000
DTEND;TZID=America/Los_Angeles:20260712T104500
DTSTAMP:20260425T211654
CREATED:20250412T172400Z
LAST-MODIFIED:20260410T183711Z
UID:10037122-1783839600-1783853100@fvsc.com
SUMMARY:Club Practice 7am-10:45am
DESCRIPTION:Private Practice for Club skaters only.
URL:https://fvsc.com/event/club-practice-7am-11am-2-2-2/2026-07-12/
CATEGORIES:Club Events
END:VEVENT
BEGIN:VEVENT
DTSTART;TZID=America/Los_Angeles:20260713T070000
DTEND;TZID=America/Los_Angeles:20260713T160000
DTSTAMP:20260425T211654
CREATED:20260420T164330Z
LAST-MODIFIED:20260422T204641Z
UID:10038598-1783926000-1783958400@fvsc.com
SUMMARY:Club Practice 7am-4pm
DESCRIPTION:Private Practice for Club Skaters only
URL:https://fvsc.com/event/club-practice-700pm-400pm-2/2026-07-13/
CATEGORIES:Club Events
END:VEVENT
BEGIN:VEVENT
DTSTART;TZID=America/Los_Angeles:20260714T200000
DTEND;TZID=America/Los_Angeles:20260714T230000
DTSTAMP:20260425T211654
CREATED:20250721T163605Z
LAST-MODIFIED:20250721T163606Z
UID:10007955-1784059200-1784070000@fvsc.com
SUMMARY:Club Practice 8pm-11pm
DESCRIPTION:Private Practice for Club skaters only.
URL:https://fvsc.com/event/club-practice-830pm-11pm-2-2-2-2-2/2026-07-14/
CATEGORIES:Club Events
END:VEVENT
BEGIN:VEVENT
DTSTART;TZID=America/Los_Angeles:20260717T120000
DTEND;TZID=America/Los_Angeles:20260717T153000
DTSTAMP:20260425T211654
CREATED:20251007T201224Z
LAST-MODIFIED:20260410T182655Z
UID:10024746-1784289600-1784302200@fvsc.com
SUMMARY:Club Practice 12pm-3:30pm
DESCRIPTION:Private Practice for Club Skaters only
URL:https://fvsc.com/event/club-practice-1200pm-330pm-2/2026-07-17/
CATEGORIES:Club Events
END:VEVENT
BEGIN:VEVENT
DTSTART;TZID=America/Los_Angeles:20260718T170000
DTEND;TZID=America/Los_Angeles:20260718T180000
DTSTAMP:20260425T211654
CREATED:20241104T172551Z
LAST-MODIFIED:20260402T204401Z
UID:10018856-1784394000-1784397600@fvsc.com
SUMMARY:Club Practice 5pm-6pm
DESCRIPTION:Private Practice for Club skaters only.
URL:https://fvsc.com/event/club-practice-5pm-6pm/2026-07-18/
CATEGORIES:Club Events
END:VEVENT
BEGIN:VEVENT
DTSTART;TZID=America/Los_Angeles:20260719T070000
DTEND;TZID=America/Los_Angeles:20260719T104500
DTSTAMP:20260425T211655
CREATED:20250412T172400Z
LAST-MODIFIED:20260410T183711Z
UID:10037123-1784444400-1784457900@fvsc.com
SUMMARY:Club Practice 7am-10:45am
DESCRIPTION:Private Practice for Club skaters only.
URL:https://fvsc.com/event/club-practice-7am-11am-2-2-2/2026-07-19/
CATEGORIES:Club Events
END:VEVENT
BEGIN:VEVENT
DTSTART;TZID=America/Los_Angeles:20260720T070000
DTEND;TZID=America/Los_Angeles:20260720T160000
DTSTAMP:20260425T211655
CREATED:20260420T164330Z
LAST-MODIFIED:20260422T204641Z
UID:10038599-1784530800-1784563200@fvsc.com
SUMMARY:Club Practice 7am-4pm
DESCRIPTION:Private Practice for Club Skaters only
URL:https://fvsc.com/event/club-practice-700pm-400pm-2/2026-07-20/
CATEGORIES:Club Events
END:VEVENT
BEGIN:VEVENT
DTSTART;TZID=America/Los_Angeles:20260721T200000
DTEND;TZID=America/Los_Angeles:20260721T230000
DTSTAMP:20260425T211655
CREATED:20250721T163605Z
LAST-MODIFIED:20250721T163606Z
UID:10007956-1784664000-1784674800@fvsc.com
SUMMARY:Club Practice 8pm-11pm
DESCRIPTION:Private Practice for Club skaters only.
URL:https://fvsc.com/event/club-practice-830pm-11pm-2-2-2-2-2/2026-07-21/
CATEGORIES:Club Events
END:VEVENT
BEGIN:VEVENT
DTSTART;TZID=America/Los_Angeles:20260724T120000
DTEND;TZID=America/Los_Angeles:20260724T153000
DTSTAMP:20260425T211655
CREATED:20251007T201224Z
LAST-MODIFIED:20260410T182655Z
UID:10024747-1784894400-1784907000@fvsc.com
SUMMARY:Club Practice 12pm-3:30pm
DESCRIPTION:Private Practice for Club Skaters only
URL:https://fvsc.com/event/club-practice-1200pm-330pm-2/2026-07-24/
CATEGORIES:Club Events
END:VEVENT
BEGIN:VEVENT
DTSTART;TZID=America/Los_Angeles:20260725T170000
DTEND;TZID=America/Los_Angeles:20260725T180000
DTSTAMP:20260425T211655
CREATED:20241104T172551Z
LAST-MODIFIED:20260402T204401Z
UID:10018857-1784998800-1785002400@fvsc.com
SUMMARY:Club Practice 5pm-6pm
DESCRIPTION:Private Practice for Club skaters only.
URL:https://fvsc.com/event/club-practice-5pm-6pm/2026-07-25/
CATEGORIES:Club Events
END:VEVENT
BEGIN:VEVENT
DTSTART;TZID=America/Los_Angeles:20260726T070000
DTEND;TZID=America/Los_Angeles:20260726T104500
DTSTAMP:20260425T211655
CREATED:20250412T172400Z
LAST-MODIFIED:20260410T183711Z
UID:10037124-1785049200-1785062700@fvsc.com
SUMMARY:Club Practice 7am-10:45am
DESCRIPTION:Private Practice for Club skaters only.
URL:https://fvsc.com/event/club-practice-7am-11am-2-2-2/2026-07-26/
CATEGORIES:Club Events
END:VEVENT
BEGIN:VEVENT
DTSTART;TZID=America/Los_Angeles:20260727T070000
DTEND;TZID=America/Los_Angeles:20260727T160000
DTSTAMP:20260425T211655
CREATED:20260420T164330Z
LAST-MODIFIED:20260422T204641Z
UID:10038600-1785135600-1785168000@fvsc.com
SUMMARY:Club Practice 7am-4pm
DESCRIPTION:Private Practice for Club Skaters only
URL:https://fvsc.com/event/club-practice-700pm-400pm-2/2026-07-27/
CATEGORIES:Club Events
END:VEVENT
BEGIN:VEVENT
DTSTART;TZID=America/Los_Angeles:20260728T200000
DTEND;TZID=America/Los_Angeles:20260728T230000
DTSTAMP:20260425T211655
CREATED:20250721T163605Z
LAST-MODIFIED:20250721T163606Z
UID:10007957-1785268800-1785279600@fvsc.com
SUMMARY:Club Practice 8pm-11pm
DESCRIPTION:Private Practice for Club skaters only.
URL:https://fvsc.com/event/club-practice-830pm-11pm-2-2-2-2-2/2026-07-28/
CATEGORIES:Club Events
END:VEVENT
BEGIN:VEVENT
DTSTART;TZID=America/Los_Angeles:20260731T120000
DTEND;TZID=America/Los_Angeles:20260731T153000
DTSTAMP:20260425T211655
CREATED:20251007T201224Z
LAST-MODIFIED:20260410T182655Z
UID:10024748-1785499200-1785511800@fvsc.com
SUMMARY:Club Practice 12pm-3:30pm
DESCRIPTION:Private Practice for Club Skaters only
URL:https://fvsc.com/event/club-practice-1200pm-330pm-2/2026-07-31/
CATEGORIES:Club Events
END:VEVENT
END:VCALENDAR