BEGIN:VCALENDAR
VERSION:2.0
PRODID:-//Fountain Valley Skating Center - ECPv6.15.12.2//NONSGML v1.0//EN
CALSCALE:GREGORIAN
METHOD:PUBLISH
X-ORIGINAL-URL:https://fvsc.com
X-WR-CALDESC:Events for Fountain Valley Skating Center
REFRESH-INTERVAL;VALUE=DURATION:PT1H
X-Robots-Tag:noindex
X-PUBLISHED-TTL:PT1H
BEGIN:VTIMEZONE
TZID:America/Los_Angeles
BEGIN:DAYLIGHT
TZOFFSETFROM:-0800
TZOFFSETTO:-0700
TZNAME:PDT
DTSTART:20250309T100000
END:DAYLIGHT
BEGIN:STANDARD
TZOFFSETFROM:-0700
TZOFFSETTO:-0800
TZNAME:PST
DTSTART:20251102T090000
END:STANDARD
BEGIN:DAYLIGHT
TZOFFSETFROM:-0800
TZOFFSETTO:-0700
TZNAME:PDT
DTSTART:20260308T100000
END:DAYLIGHT
BEGIN:STANDARD
TZOFFSETFROM:-0700
TZOFFSETTO:-0800
TZNAME:PST
DTSTART:20261101T090000
END:STANDARD
BEGIN:DAYLIGHT
TZOFFSETFROM:-0800
TZOFFSETTO:-0700
TZNAME:PDT
DTSTART:20270314T100000
END:DAYLIGHT
BEGIN:STANDARD
TZOFFSETFROM:-0700
TZOFFSETTO:-0800
TZNAME:PST
DTSTART:20271107T090000
END:STANDARD
END:VTIMEZONE
BEGIN:VEVENT
DTSTART;TZID=America/Los_Angeles:20260225T070000
DTEND;TZID=America/Los_Angeles:20260225T100000
DTSTAMP:20260423T045254
CREATED:20260104T220400Z
LAST-MODIFIED:20260421T210705Z
UID:10033286-1772002800-1772013600@fvsc.com
SUMMARY:Club Practice 7am-10am
DESCRIPTION:Private Practice for Club skaters only.
URL:https://fvsc.com/event/club-practice-7am-10am-2-2-2-2/2026-02-25/
CATEGORIES:Club Events
END:VEVENT
BEGIN:VEVENT
DTSTART;TZID=America/Los_Angeles:20260225T130000
DTEND;TZID=America/Los_Angeles:20260225T160000
DTSTAMP:20260423T045254
CREATED:20241112T215145Z
LAST-MODIFIED:20260421T211007Z
UID:10034329-1772024400-1772035200@fvsc.com
SUMMARY:Club Practice 1pm-4pm
DESCRIPTION:
URL:https://fvsc.com/event/club-practice-1pm-4pm/2026-02-25/
CATEGORIES:Club Events
END:VEVENT
BEGIN:VEVENT
DTSTART;TZID=America/Los_Angeles:20260226T070000
DTEND;TZID=America/Los_Angeles:20260226T160000
DTSTAMP:20260423T045254
CREATED:20240816T165913Z
LAST-MODIFIED:20260422T194613Z
UID:10035229-1772089200-1772121600@fvsc.com
SUMMARY:Club Practice 7am-4pm
DESCRIPTION:Private Practice for Club Skaters only
URL:https://fvsc.com/event/club-practice-700pm-400pm/2026-02-26/
CATEGORIES:Club Events
END:VEVENT
BEGIN:VEVENT
DTSTART;TZID=America/Los_Angeles:20260227T070000
DTEND;TZID=America/Los_Angeles:20260227T100000
DTSTAMP:20260423T045254
CREATED:20260104T220400Z
LAST-MODIFIED:20260421T210705Z
UID:10033287-1772175600-1772186400@fvsc.com
SUMMARY:Club Practice 7am-10am
DESCRIPTION:Private Practice for Club skaters only.
URL:https://fvsc.com/event/club-practice-7am-10am-2-2-2-2/2026-02-27/
CATEGORIES:Club Events
END:VEVENT
BEGIN:VEVENT
DTSTART;TZID=America/Los_Angeles:20260227T120000
DTEND;TZID=America/Los_Angeles:20260227T153000
DTSTAMP:20260423T045254
CREATED:20251007T201224Z
LAST-MODIFIED:20260410T182655Z
UID:10024726-1772193600-1772206200@fvsc.com
SUMMARY:Club Practice 12pm-3:30pm
DESCRIPTION:Private Practice for Club Skaters only
URL:https://fvsc.com/event/club-practice-1200pm-330pm-2/2026-02-27/
CATEGORIES:Club Events
END:VEVENT
BEGIN:VEVENT
DTSTART;TZID=America/Los_Angeles:20260228T170000
DTEND;TZID=America/Los_Angeles:20260228T180000
DTSTAMP:20260423T045254
CREATED:20241104T172551Z
LAST-MODIFIED:20260402T204401Z
UID:10018836-1772298000-1772301600@fvsc.com
SUMMARY:Club Practice 5pm-6pm
DESCRIPTION:Private Practice for Club skaters only.
URL:https://fvsc.com/event/club-practice-5pm-6pm/2026-02-28/
CATEGORIES:Club Events
END:VEVENT
BEGIN:VEVENT
DTSTART;TZID=America/Los_Angeles:20260301T070000
DTEND;TZID=America/Los_Angeles:20260301T104500
DTSTAMP:20260423T045254
CREATED:20250412T172400Z
LAST-MODIFIED:20260410T183711Z
UID:10037105-1772348400-1772361900@fvsc.com
SUMMARY:Club Practice 7am-10:45am
DESCRIPTION:Private Practice for Club skaters only.
URL:https://fvsc.com/event/club-practice-7am-11am-2-2-2/2026-03-01/
CATEGORIES:Club Events
END:VEVENT
BEGIN:VEVENT
DTSTART;TZID=America/Los_Angeles:20260302T070000
DTEND;TZID=America/Los_Angeles:20260302T160000
DTSTAMP:20260423T045254
CREATED:20240816T165913Z
LAST-MODIFIED:20260422T194613Z
UID:10035230-1772434800-1772467200@fvsc.com
SUMMARY:Club Practice 7am-4pm
DESCRIPTION:Private Practice for Club Skaters only
URL:https://fvsc.com/event/club-practice-700pm-400pm/2026-03-02/
CATEGORIES:Club Events
END:VEVENT
BEGIN:VEVENT
DTSTART;TZID=America/Los_Angeles:20260303T070000
DTEND;TZID=America/Los_Angeles:20260303T100000
DTSTAMP:20260423T045254
CREATED:20260104T220400Z
LAST-MODIFIED:20260421T210705Z
UID:10033289-1772521200-1772532000@fvsc.com
SUMMARY:Club Practice 7am-10am
DESCRIPTION:Private Practice for Club skaters only.
URL:https://fvsc.com/event/club-practice-7am-10am-2-2-2-2/2026-03-03/
CATEGORIES:Club Events
END:VEVENT
BEGIN:VEVENT
DTSTART;TZID=America/Los_Angeles:20260303T120000
DTEND;TZID=America/Los_Angeles:20260303T160000
DTSTAMP:20260423T045254
CREATED:20250319T162234Z
LAST-MODIFIED:20260421T172627Z
UID:10034987-1772539200-1772553600@fvsc.com
SUMMARY:Club Practice 12pm-4pm
DESCRIPTION:
URL:https://fvsc.com/event/club-practice-12pm-4pm/2026-03-03/
CATEGORIES:Club Events
END:VEVENT
BEGIN:VEVENT
DTSTART;TZID=America/Los_Angeles:20260303T200000
DTEND;TZID=America/Los_Angeles:20260303T230000
DTSTAMP:20260423T045254
CREATED:20250721T163605Z
LAST-MODIFIED:20250721T163606Z
UID:10007936-1772568000-1772578800@fvsc.com
SUMMARY:Club Practice 8pm-11pm
DESCRIPTION:Private Practice for Club skaters only.
URL:https://fvsc.com/event/club-practice-830pm-11pm-2-2-2-2-2/2026-03-03/
CATEGORIES:Club Events
END:VEVENT
BEGIN:VEVENT
DTSTART;TZID=America/Los_Angeles:20260304T080000
DTEND;TZID=America/Los_Angeles:20260304T100000
DTSTAMP:20260423T045254
CREATED:20260105T164239Z
LAST-MODIFIED:20260302T190728Z
UID:10035465-1772611200-1772618400@fvsc.com
SUMMARY:Club Practice 8am-10am
DESCRIPTION:Private Practice for Club Skaters only
URL:https://fvsc.com/event/club-practice-8am-10am/2026-03-04/
CATEGORIES:Club Events
END:VEVENT
BEGIN:VEVENT
DTSTART;TZID=America/Los_Angeles:20260305T070000
DTEND;TZID=America/Los_Angeles:20260305T160000
DTSTAMP:20260423T045254
CREATED:20240816T165913Z
LAST-MODIFIED:20260422T194613Z
UID:10035231-1772694000-1772726400@fvsc.com
SUMMARY:Club Practice 7am-4pm
DESCRIPTION:Private Practice for Club Skaters only
URL:https://fvsc.com/event/club-practice-700pm-400pm/2026-03-05/
CATEGORIES:Club Events
END:VEVENT
BEGIN:VEVENT
DTSTART;TZID=America/Los_Angeles:20260306T070000
DTEND;TZID=America/Los_Angeles:20260306T100000
DTSTAMP:20260423T045254
CREATED:20260104T220400Z
LAST-MODIFIED:20260421T210705Z
UID:10033291-1772780400-1772791200@fvsc.com
SUMMARY:Club Practice 7am-10am
DESCRIPTION:Private Practice for Club skaters only.
URL:https://fvsc.com/event/club-practice-7am-10am-2-2-2-2/2026-03-06/
CATEGORIES:Club Events
END:VEVENT
BEGIN:VEVENT
DTSTART;TZID=America/Los_Angeles:20260306T120000
DTEND;TZID=America/Los_Angeles:20260306T153000
DTSTAMP:20260423T045254
CREATED:20251007T201224Z
LAST-MODIFIED:20260410T182655Z
UID:10024727-1772798400-1772811000@fvsc.com
SUMMARY:Club Practice 12pm-3:30pm
DESCRIPTION:Private Practice for Club Skaters only
URL:https://fvsc.com/event/club-practice-1200pm-330pm-2/2026-03-06/
CATEGORIES:Club Events
END:VEVENT
BEGIN:VEVENT
DTSTART;TZID=America/Los_Angeles:20260307T170000
DTEND;TZID=America/Los_Angeles:20260307T180000
DTSTAMP:20260423T045254
CREATED:20241104T172551Z
LAST-MODIFIED:20260402T204401Z
UID:10018837-1772902800-1772906400@fvsc.com
SUMMARY:Club Practice 5pm-6pm
DESCRIPTION:Private Practice for Club skaters only.
URL:https://fvsc.com/event/club-practice-5pm-6pm/2026-03-07/
CATEGORIES:Club Events
END:VEVENT
BEGIN:VEVENT
DTSTART;TZID=America/Los_Angeles:20260308T070000
DTEND;TZID=America/Los_Angeles:20260308T104500
DTSTAMP:20260423T045254
CREATED:20250412T172400Z
LAST-MODIFIED:20260410T183711Z
UID:10037106-1772953200-1772966700@fvsc.com
SUMMARY:Club Practice 7am-10:45am
DESCRIPTION:Private Practice for Club skaters only.
URL:https://fvsc.com/event/club-practice-7am-11am-2-2-2/2026-03-08/
CATEGORIES:Club Events
END:VEVENT
BEGIN:VEVENT
DTSTART;TZID=America/Los_Angeles:20260310T070000
DTEND;TZID=America/Los_Angeles:20260310T100000
DTSTAMP:20260423T045254
CREATED:20260104T220400Z
LAST-MODIFIED:20260421T210705Z
UID:10033293-1773126000-1773136800@fvsc.com
SUMMARY:Club Practice 7am-10am
DESCRIPTION:Private Practice for Club skaters only.
URL:https://fvsc.com/event/club-practice-7am-10am-2-2-2-2/2026-03-10/
CATEGORIES:Club Events
END:VEVENT
BEGIN:VEVENT
DTSTART;TZID=America/Los_Angeles:20260310T120000
DTEND;TZID=America/Los_Angeles:20260310T160000
DTSTAMP:20260423T045254
CREATED:20250319T162234Z
LAST-MODIFIED:20260421T172627Z
UID:10035021-1773144000-1773158400@fvsc.com
SUMMARY:Club Practice 12pm-4pm
DESCRIPTION:
URL:https://fvsc.com/event/club-practice-12pm-4pm/2026-03-10/
CATEGORIES:Club Events
END:VEVENT
BEGIN:VEVENT
DTSTART;TZID=America/Los_Angeles:20260310T200000
DTEND;TZID=America/Los_Angeles:20260310T230000
DTSTAMP:20260423T045254
CREATED:20250721T163605Z
LAST-MODIFIED:20250721T163606Z
UID:10007937-1773172800-1773183600@fvsc.com
SUMMARY:Club Practice 8pm-11pm
DESCRIPTION:Private Practice for Club skaters only.
URL:https://fvsc.com/event/club-practice-830pm-11pm-2-2-2-2-2/2026-03-10/
CATEGORIES:Club Events
END:VEVENT
BEGIN:VEVENT
DTSTART;TZID=America/Los_Angeles:20260311T070000
DTEND;TZID=America/Los_Angeles:20260311T100000
DTSTAMP:20260423T045254
CREATED:20241118T202741Z
LAST-MODIFIED:20260420T165033Z
UID:10035039-1773212400-1773223200@fvsc.com
SUMMARY:Club Practice 7am-10am
DESCRIPTION:Private Practice for Club skaters only.
URL:https://fvsc.com/event/club-practice-7am-10am-2-2-2/2026-03-11/
CATEGORIES:Club Events
END:VEVENT
BEGIN:VEVENT
DTSTART;TZID=America/Los_Angeles:20260311T150000
DTEND;TZID=America/Los_Angeles:20260311T160000
DTSTAMP:20260423T045254
CREATED:20240815T194540Z
LAST-MODIFIED:20260310T181758Z
UID:10035466-1773241200-1773244800@fvsc.com
SUMMARY:Club Practice 3pm-4pm
DESCRIPTION:Private Practice for Club Skaters only
URL:https://fvsc.com/event/club-practice-3pm-4pm/2026-03-11/
CATEGORIES:Club Events
END:VEVENT
BEGIN:VEVENT
DTSTART;TZID=America/Los_Angeles:20260312T070000
DTEND;TZID=America/Los_Angeles:20260312T110000
DTSTAMP:20260423T045255
CREATED:20240213T223430Z
LAST-MODIFIED:20260410T185456Z
UID:10035041-1773298800-1773313200@fvsc.com
SUMMARY:Club Practice 7am-11am
DESCRIPTION:
URL:https://fvsc.com/event/club-practice-7am-11am/2026-03-12/
CATEGORIES:Club Events
END:VEVENT
BEGIN:VEVENT
DTSTART;TZID=America/Los_Angeles:20260312T140000
DTEND;TZID=America/Los_Angeles:20260312T160000
DTSTAMP:20260423T045255
CREATED:20251110T202929Z
LAST-MODIFIED:20260410T185610Z
UID:10035042-1773324000-1773331200@fvsc.com
SUMMARY:Club Practice 2pm-4pm
DESCRIPTION:
URL:https://fvsc.com/event/club-practice-2pm-4pm-3/2026-03-12/
CATEGORIES:Club Events
END:VEVENT
BEGIN:VEVENT
DTSTART;TZID=America/Los_Angeles:20260313T070000
DTEND;TZID=America/Los_Angeles:20260313T100000
DTSTAMP:20260423T045255
CREATED:20260104T220400Z
LAST-MODIFIED:20260421T210705Z
UID:10033295-1773385200-1773396000@fvsc.com
SUMMARY:Club Practice 7am-10am
DESCRIPTION:Private Practice for Club skaters only.
URL:https://fvsc.com/event/club-practice-7am-10am-2-2-2-2/2026-03-13/
CATEGORIES:Club Events
END:VEVENT
BEGIN:VEVENT
DTSTART;TZID=America/Los_Angeles:20260313T120000
DTEND;TZID=America/Los_Angeles:20260313T153000
DTSTAMP:20260423T045255
CREATED:20251007T201224Z
LAST-MODIFIED:20260410T182655Z
UID:10024728-1773403200-1773415800@fvsc.com
SUMMARY:Club Practice 12pm-3:30pm
DESCRIPTION:Private Practice for Club Skaters only
URL:https://fvsc.com/event/club-practice-1200pm-330pm-2/2026-03-13/
CATEGORIES:Club Events
END:VEVENT
BEGIN:VEVENT
DTSTART;TZID=America/Los_Angeles:20260314T170000
DTEND;TZID=America/Los_Angeles:20260314T180000
DTSTAMP:20260423T045255
CREATED:20241104T172551Z
LAST-MODIFIED:20260402T204401Z
UID:10018838-1773507600-1773511200@fvsc.com
SUMMARY:Club Practice 5pm-6pm
DESCRIPTION:Private Practice for Club skaters only.
URL:https://fvsc.com/event/club-practice-5pm-6pm/2026-03-14/
CATEGORIES:Club Events
END:VEVENT
BEGIN:VEVENT
DTSTART;TZID=America/Los_Angeles:20260315T070000
DTEND;TZID=America/Los_Angeles:20260315T104500
DTSTAMP:20260423T045255
CREATED:20250412T172400Z
LAST-MODIFIED:20260410T183711Z
UID:10037107-1773558000-1773571500@fvsc.com
SUMMARY:Club Practice 7am-10:45am
DESCRIPTION:Private Practice for Club skaters only.
URL:https://fvsc.com/event/club-practice-7am-11am-2-2-2/2026-03-15/
CATEGORIES:Club Events
END:VEVENT
BEGIN:VEVENT
DTSTART;TZID=America/Los_Angeles:20260316T070000
DTEND;TZID=America/Los_Angeles:20260316T160000
DTSTAMP:20260423T045255
CREATED:20240816T165913Z
LAST-MODIFIED:20260422T194613Z
UID:10035232-1773644400-1773676800@fvsc.com
SUMMARY:Club Practice 7am-4pm
DESCRIPTION:Private Practice for Club Skaters only
URL:https://fvsc.com/event/club-practice-700pm-400pm/2026-03-16/
CATEGORIES:Club Events
END:VEVENT
BEGIN:VEVENT
DTSTART;TZID=America/Los_Angeles:20260316T180000
DTEND;TZID=America/Los_Angeles:20260316T190000
DTSTAMP:20260423T045255
CREATED:20240815T191906Z
LAST-MODIFIED:20260410T184713Z
UID:10035626-1773684000-1773687600@fvsc.com
SUMMARY:Club Practice 6pm-7pm
DESCRIPTION:Private Practice for Club Skaters only
URL:https://fvsc.com/event/club-practice-6pm-7pm/2026-03-16/
CATEGORIES:Club Events
END:VEVENT
END:VCALENDAR