BEGIN:VCALENDAR
VERSION:2.0
PRODID:-//Fountain Valley Skating Center - ECPv6.15.12.2//NONSGML v1.0//EN
CALSCALE:GREGORIAN
METHOD:PUBLISH
X-ORIGINAL-URL:https://fvsc.com
X-WR-CALDESC:Events for Fountain Valley Skating Center
REFRESH-INTERVAL;VALUE=DURATION:PT1H
X-Robots-Tag:noindex
X-PUBLISHED-TTL:PT1H
BEGIN:VTIMEZONE
TZID:America/Los_Angeles
BEGIN:DAYLIGHT
TZOFFSETFROM:-0800
TZOFFSETTO:-0700
TZNAME:PDT
DTSTART:20240310T100000
END:DAYLIGHT
BEGIN:STANDARD
TZOFFSETFROM:-0700
TZOFFSETTO:-0800
TZNAME:PST
DTSTART:20241103T090000
END:STANDARD
BEGIN:DAYLIGHT
TZOFFSETFROM:-0800
TZOFFSETTO:-0700
TZNAME:PDT
DTSTART:20250309T100000
END:DAYLIGHT
BEGIN:STANDARD
TZOFFSETFROM:-0700
TZOFFSETTO:-0800
TZNAME:PST
DTSTART:20251102T090000
END:STANDARD
BEGIN:DAYLIGHT
TZOFFSETFROM:-0800
TZOFFSETTO:-0700
TZNAME:PDT
DTSTART:20260308T100000
END:DAYLIGHT
BEGIN:STANDARD
TZOFFSETFROM:-0700
TZOFFSETTO:-0800
TZNAME:PST
DTSTART:20261101T090000
END:STANDARD
END:VTIMEZONE
BEGIN:VEVENT
DTSTART;TZID=America/Los_Angeles:20250204T070000
DTEND;TZID=America/Los_Angeles:20250204T100000
DTSTAMP:20260423T154205
CREATED:20241118T202741Z
LAST-MODIFIED:20260420T165033Z
UID:10020380-1738652400-1738663200@fvsc.com
SUMMARY:Club Practice 7am-10am
DESCRIPTION:Private Practice for Club skaters only.
URL:https://fvsc.com/event/club-practice-7am-10am-2-2-2/2025-02-04/
CATEGORIES:Club Events
END:VEVENT
BEGIN:VEVENT
DTSTART;TZID=America/Los_Angeles:20250204T200000
DTEND;TZID=America/Los_Angeles:20250204T230000
DTSTAMP:20260423T154205
CREATED:20240625T005524Z
LAST-MODIFIED:20250501T215538Z
UID:10007880-1738699200-1738710000@fvsc.com
SUMMARY:Club Practice 8pm-11pm
DESCRIPTION:Private Practice for Club skaters only.
URL:https://fvsc.com/event/club-practice-830pm-11pm-2-2-2/2025-02-04/
CATEGORIES:Club Events
END:VEVENT
BEGIN:VEVENT
DTSTART;TZID=America/Los_Angeles:20250205T070000
DTEND;TZID=America/Los_Angeles:20250205T100000
DTSTAMP:20260423T154205
CREATED:20241118T202741Z
LAST-MODIFIED:20260420T165033Z
UID:10032692-1738738800-1738749600@fvsc.com
SUMMARY:Club Practice 7am-10am
DESCRIPTION:Private Practice for Club skaters only.
URL:https://fvsc.com/event/club-practice-7am-10am-2-2-2/2025-02-05/
CATEGORIES:Club Events
END:VEVENT
BEGIN:VEVENT
DTSTART;TZID=America/Los_Angeles:20250205T130000
DTEND;TZID=America/Los_Angeles:20250205T140000
DTSTAMP:20260423T154205
CREATED:20241001T160733Z
LAST-MODIFIED:20260410T181953Z
UID:10020945-1738760400-1738764000@fvsc.com
SUMMARY:Club Practice 1pm-2pm
DESCRIPTION:
URL:https://fvsc.com/event/club-practice-100pm-200pm/2025-02-05/
CATEGORIES:Club Events
END:VEVENT
BEGIN:VEVENT
DTSTART;TZID=America/Los_Angeles:20250206T070000
DTEND;TZID=America/Los_Angeles:20250206T160000
DTSTAMP:20260423T154205
CREATED:20240816T165913Z
LAST-MODIFIED:20260422T194613Z
UID:10035143-1738825200-1738857600@fvsc.com
SUMMARY:Club Practice 7am-4pm
DESCRIPTION:Private Practice for Club Skaters only
URL:https://fvsc.com/event/club-practice-700pm-400pm/2025-02-06/
CATEGORIES:Club Events
END:VEVENT
BEGIN:VEVENT
DTSTART;TZID=America/Los_Angeles:20250207T070000
DTEND;TZID=America/Los_Angeles:20250207T100000
DTSTAMP:20260423T154205
CREATED:20241118T202741Z
LAST-MODIFIED:20260420T165033Z
UID:10006350-1738911600-1738922400@fvsc.com
SUMMARY:Club Practice 7am-10am
DESCRIPTION:Private Practice for Club skaters only.
URL:https://fvsc.com/event/club-practice-7am-10am-2-2-2/2025-02-07/
CATEGORIES:Club Events
END:VEVENT
BEGIN:VEVENT
DTSTART;TZID=America/Los_Angeles:20250207T120000
DTEND;TZID=America/Los_Angeles:20250207T153000
DTSTAMP:20260423T154205
CREATED:20240816T165237Z
LAST-MODIFIED:20260410T182814Z
UID:10024674-1738929600-1738942200@fvsc.com
SUMMARY:Club Practice 12pm-3:30pm
DESCRIPTION:Private Practice for Club Skaters only
URL:https://fvsc.com/event/club-practice-1200pm-330pm/2025-02-07/
CATEGORIES:Club Events
END:VEVENT
BEGIN:VEVENT
DTSTART;TZID=America/Los_Angeles:20250210T070000
DTEND;TZID=America/Los_Angeles:20250210T100000
DTSTAMP:20260423T154205
CREATED:20241118T202741Z
LAST-MODIFIED:20260420T165033Z
UID:10032456-1739170800-1739181600@fvsc.com
SUMMARY:Club Practice 7am-10am
DESCRIPTION:Private Practice for Club skaters only.
URL:https://fvsc.com/event/club-practice-7am-10am-2-2-2/2025-02-10/
CATEGORIES:Club Events
END:VEVENT
BEGIN:VEVENT
DTSTART;TZID=America/Los_Angeles:20250210T070000
DTEND;TZID=America/Los_Angeles:20250210T160000
DTSTAMP:20260423T154205
CREATED:20240816T165913Z
LAST-MODIFIED:20260422T194613Z
UID:10035144-1739170800-1739203200@fvsc.com
SUMMARY:Club Practice 7am-4pm
DESCRIPTION:Private Practice for Club Skaters only
URL:https://fvsc.com/event/club-practice-700pm-400pm/2025-02-10/
CATEGORIES:Club Events
END:VEVENT
BEGIN:VEVENT
DTSTART;TZID=America/Los_Angeles:20250210T180000
DTEND;TZID=America/Los_Angeles:20250210T190000
DTSTAMP:20260423T154205
CREATED:20240815T191906Z
LAST-MODIFIED:20260410T184713Z
UID:10020958-1739210400-1739214000@fvsc.com
SUMMARY:Club Practice 6pm-7pm
DESCRIPTION:Private Practice for Club Skaters only
URL:https://fvsc.com/event/club-practice-6pm-7pm/2025-02-10/
CATEGORIES:Club Events
END:VEVENT
BEGIN:VEVENT
DTSTART;TZID=America/Los_Angeles:20250211T070000
DTEND;TZID=America/Los_Angeles:20250211T100000
DTSTAMP:20260423T154205
CREATED:20241118T202741Z
LAST-MODIFIED:20260420T165033Z
UID:10020381-1739257200-1739268000@fvsc.com
SUMMARY:Club Practice 7am-10am
DESCRIPTION:Private Practice for Club skaters only.
URL:https://fvsc.com/event/club-practice-7am-10am-2-2-2/2025-02-11/
CATEGORIES:Club Events
END:VEVENT
BEGIN:VEVENT
DTSTART;TZID=America/Los_Angeles:20250211T200000
DTEND;TZID=America/Los_Angeles:20250211T230000
DTSTAMP:20260423T154205
CREATED:20240625T005524Z
LAST-MODIFIED:20250501T215538Z
UID:10007881-1739304000-1739314800@fvsc.com
SUMMARY:Club Practice 8pm-11pm
DESCRIPTION:Private Practice for Club skaters only.
URL:https://fvsc.com/event/club-practice-830pm-11pm-2-2-2/2025-02-11/
CATEGORIES:Club Events
END:VEVENT
BEGIN:VEVENT
DTSTART;TZID=America/Los_Angeles:20250212T070000
DTEND;TZID=America/Los_Angeles:20250212T100000
DTSTAMP:20260423T154205
CREATED:20241118T202741Z
LAST-MODIFIED:20260420T165033Z
UID:10032693-1739343600-1739354400@fvsc.com
SUMMARY:Club Practice 7am-10am
DESCRIPTION:Private Practice for Club skaters only.
URL:https://fvsc.com/event/club-practice-7am-10am-2-2-2/2025-02-12/
CATEGORIES:Club Events
END:VEVENT
BEGIN:VEVENT
DTSTART;TZID=America/Los_Angeles:20250212T130000
DTEND;TZID=America/Los_Angeles:20250212T160000
DTSTAMP:20260423T154205
CREATED:20241112T215145Z
LAST-MODIFIED:20260421T211007Z
UID:10020962-1739365200-1739376000@fvsc.com
SUMMARY:Club Practice 1pm-4pm
DESCRIPTION:
URL:https://fvsc.com/event/club-practice-1pm-4pm/2025-02-12/
CATEGORIES:Club Events
END:VEVENT
BEGIN:VEVENT
DTSTART;TZID=America/Los_Angeles:20250213T070000
DTEND;TZID=America/Los_Angeles:20250213T110000
DTSTAMP:20260423T154205
CREATED:20240213T223430Z
LAST-MODIFIED:20260410T185456Z
UID:10020965-1739430000-1739444400@fvsc.com
SUMMARY:Club Practice 7am-11am
DESCRIPTION:
URL:https://fvsc.com/event/club-practice-7am-11am/2025-02-13/
CATEGORIES:Club Events
END:VEVENT
BEGIN:VEVENT
DTSTART;TZID=America/Los_Angeles:20250213T070000
DTEND;TZID=America/Los_Angeles:20250213T160000
DTSTAMP:20260423T154205
CREATED:20240816T165913Z
LAST-MODIFIED:20260422T194613Z
UID:10035145-1739430000-1739462400@fvsc.com
SUMMARY:Club Practice 7am-4pm
DESCRIPTION:Private Practice for Club Skaters only
URL:https://fvsc.com/event/club-practice-700pm-400pm/2025-02-13/
CATEGORIES:Club Events
END:VEVENT
BEGIN:VEVENT
DTSTART;TZID=America/Los_Angeles:20250214T070000
DTEND;TZID=America/Los_Angeles:20250214T100000
DTSTAMP:20260423T154205
CREATED:20241118T202741Z
LAST-MODIFIED:20260420T165033Z
UID:10006353-1739516400-1739527200@fvsc.com
SUMMARY:Club Practice 7am-10am
DESCRIPTION:Private Practice for Club skaters only.
URL:https://fvsc.com/event/club-practice-7am-10am-2-2-2/2025-02-14/
CATEGORIES:Club Events
END:VEVENT
BEGIN:VEVENT
DTSTART;TZID=America/Los_Angeles:20250214T120000
DTEND;TZID=America/Los_Angeles:20250214T153000
DTSTAMP:20260423T154205
CREATED:20240816T165237Z
LAST-MODIFIED:20260410T182814Z
UID:10020947-1739534400-1739547000@fvsc.com
SUMMARY:Club Practice 12pm-3:30pm
DESCRIPTION:Private Practice for Club Skaters only
URL:https://fvsc.com/event/club-practice-1200pm-330pm/2025-02-14/
CATEGORIES:Club Events
END:VEVENT
BEGIN:VEVENT
DTSTART;TZID=America/Los_Angeles:20250215T170000
DTEND;TZID=America/Los_Angeles:20250215T180000
DTSTAMP:20260423T154205
CREATED:20241104T172551Z
LAST-MODIFIED:20260402T204401Z
UID:10018782-1739638800-1739642400@fvsc.com
SUMMARY:Club Practice 5pm-6pm
DESCRIPTION:Private Practice for Club skaters only.
URL:https://fvsc.com/event/club-practice-5pm-6pm/2025-02-15/
CATEGORIES:Club Events
END:VEVENT
BEGIN:VEVENT
DTSTART;TZID=America/Los_Angeles:20250217T070000
DTEND;TZID=America/Los_Angeles:20250217T100000
DTSTAMP:20260423T154205
CREATED:20241118T202741Z
LAST-MODIFIED:20260420T165033Z
UID:10032457-1739775600-1739786400@fvsc.com
SUMMARY:Club Practice 7am-10am
DESCRIPTION:Private Practice for Club skaters only.
URL:https://fvsc.com/event/club-practice-7am-10am-2-2-2/2025-02-17/
CATEGORIES:Club Events
END:VEVENT
BEGIN:VEVENT
DTSTART;TZID=America/Los_Angeles:20250217T070000
DTEND;TZID=America/Los_Angeles:20250217T160000
DTSTAMP:20260423T154205
CREATED:20240816T165913Z
LAST-MODIFIED:20260422T194613Z
UID:10035146-1739775600-1739808000@fvsc.com
SUMMARY:Club Practice 7am-4pm
DESCRIPTION:Private Practice for Club Skaters only
URL:https://fvsc.com/event/club-practice-700pm-400pm/2025-02-17/
CATEGORIES:Club Events
END:VEVENT
BEGIN:VEVENT
DTSTART;TZID=America/Los_Angeles:20250218T070000
DTEND;TZID=America/Los_Angeles:20250218T100000
DTSTAMP:20260423T154205
CREATED:20241118T202741Z
LAST-MODIFIED:20260420T165033Z
UID:10020382-1739862000-1739872800@fvsc.com
SUMMARY:Club Practice 7am-10am
DESCRIPTION:Private Practice for Club skaters only.
URL:https://fvsc.com/event/club-practice-7am-10am-2-2-2/2025-02-18/
CATEGORIES:Club Events
END:VEVENT
BEGIN:VEVENT
DTSTART;TZID=America/Los_Angeles:20250218T200000
DTEND;TZID=America/Los_Angeles:20250218T230000
DTSTAMP:20260423T154205
CREATED:20240625T005524Z
LAST-MODIFIED:20250501T215538Z
UID:10007882-1739908800-1739919600@fvsc.com
SUMMARY:Club Practice 8pm-11pm
DESCRIPTION:Private Practice for Club skaters only.
URL:https://fvsc.com/event/club-practice-830pm-11pm-2-2-2/2025-02-18/
CATEGORIES:Club Events
END:VEVENT
BEGIN:VEVENT
DTSTART;TZID=America/Los_Angeles:20250219T070000
DTEND;TZID=America/Los_Angeles:20250219T100000
DTSTAMP:20260423T154205
CREATED:20241118T202741Z
LAST-MODIFIED:20260420T165033Z
UID:10032694-1739948400-1739959200@fvsc.com
SUMMARY:Club Practice 7am-10am
DESCRIPTION:Private Practice for Club skaters only.
URL:https://fvsc.com/event/club-practice-7am-10am-2-2-2/2025-02-19/
CATEGORIES:Club Events
END:VEVENT
BEGIN:VEVENT
DTSTART;TZID=America/Los_Angeles:20250219T130000
DTEND;TZID=America/Los_Angeles:20250219T160000
DTSTAMP:20260423T154205
CREATED:20241112T215145Z
LAST-MODIFIED:20260421T211007Z
UID:10020963-1739970000-1739980800@fvsc.com
SUMMARY:Club Practice 1pm-4pm
DESCRIPTION:
URL:https://fvsc.com/event/club-practice-1pm-4pm/2025-02-19/
CATEGORIES:Club Events
END:VEVENT
BEGIN:VEVENT
DTSTART;TZID=America/Los_Angeles:20250220T070000
DTEND;TZID=America/Los_Angeles:20250220T080000
DTSTAMP:20260423T154205
CREATED:20250210T204521Z
LAST-MODIFIED:20251011T165304Z
UID:10024954-1740034800-1740038400@fvsc.com
SUMMARY:Club Practice 7am-8am
DESCRIPTION:
URL:https://fvsc.com/event/club-practice-7am-8am/2025-02-20/
CATEGORIES:Club Events
END:VEVENT
BEGIN:VEVENT
DTSTART;TZID=America/Los_Angeles:20250221T070000
DTEND;TZID=America/Los_Angeles:20250221T100000
DTSTAMP:20260423T154205
CREATED:20241118T202741Z
LAST-MODIFIED:20260420T165033Z
UID:10006356-1740121200-1740132000@fvsc.com
SUMMARY:Club Practice 7am-10am
DESCRIPTION:Private Practice for Club skaters only.
URL:https://fvsc.com/event/club-practice-7am-10am-2-2-2/2025-02-21/
CATEGORIES:Club Events
END:VEVENT
BEGIN:VEVENT
DTSTART;TZID=America/Los_Angeles:20250221T120000
DTEND;TZID=America/Los_Angeles:20250221T153000
DTSTAMP:20260423T154205
CREATED:20240816T165237Z
LAST-MODIFIED:20260410T182814Z
UID:10020948-1740139200-1740151800@fvsc.com
SUMMARY:Club Practice 12pm-3:30pm
DESCRIPTION:Private Practice for Club Skaters only
URL:https://fvsc.com/event/club-practice-1200pm-330pm/2025-02-21/
CATEGORIES:Club Events
END:VEVENT
BEGIN:VEVENT
DTSTART;TZID=America/Los_Angeles:20250222T170000
DTEND;TZID=America/Los_Angeles:20250222T180000
DTSTAMP:20260423T154205
CREATED:20241104T172551Z
LAST-MODIFIED:20260402T204401Z
UID:10018783-1740243600-1740247200@fvsc.com
SUMMARY:Club Practice 5pm-6pm
DESCRIPTION:Private Practice for Club skaters only.
URL:https://fvsc.com/event/club-practice-5pm-6pm/2025-02-22/
CATEGORIES:Club Events
END:VEVENT
BEGIN:VEVENT
DTSTART;TZID=America/Los_Angeles:20250224T070000
DTEND;TZID=America/Los_Angeles:20250224T100000
DTSTAMP:20260423T154205
CREATED:20241118T202741Z
LAST-MODIFIED:20260420T165033Z
UID:10032458-1740380400-1740391200@fvsc.com
SUMMARY:Club Practice 7am-10am
DESCRIPTION:Private Practice for Club skaters only.
URL:https://fvsc.com/event/club-practice-7am-10am-2-2-2/2025-02-24/
CATEGORIES:Club Events
END:VEVENT
END:VCALENDAR