BEGIN:VCALENDAR
VERSION:2.0
PRODID:-//Fountain Valley Skating Center - ECPv6.15.12.2//NONSGML v1.0//EN
CALSCALE:GREGORIAN
METHOD:PUBLISH
X-WR-CALNAME:Fountain Valley Skating Center
X-ORIGINAL-URL:https://fvsc.com
X-WR-CALDESC:Events for Fountain Valley Skating Center
REFRESH-INTERVAL;VALUE=DURATION:PT1H
X-Robots-Tag:noindex
X-PUBLISHED-TTL:PT1H
BEGIN:VTIMEZONE
TZID:America/Los_Angeles
BEGIN:DAYLIGHT
TZOFFSETFROM:-0800
TZOFFSETTO:-0700
TZNAME:PDT
DTSTART:20250309T100000
END:DAYLIGHT
BEGIN:STANDARD
TZOFFSETFROM:-0700
TZOFFSETTO:-0800
TZNAME:PST
DTSTART:20251102T090000
END:STANDARD
BEGIN:DAYLIGHT
TZOFFSETFROM:-0800
TZOFFSETTO:-0700
TZNAME:PDT
DTSTART:20260308T100000
END:DAYLIGHT
BEGIN:STANDARD
TZOFFSETFROM:-0700
TZOFFSETTO:-0800
TZNAME:PST
DTSTART:20261101T090000
END:STANDARD
BEGIN:DAYLIGHT
TZOFFSETFROM:-0800
TZOFFSETTO:-0700
TZNAME:PDT
DTSTART:20270314T100000
END:DAYLIGHT
BEGIN:STANDARD
TZOFFSETFROM:-0700
TZOFFSETTO:-0800
TZNAME:PST
DTSTART:20271107T090000
END:STANDARD
END:VTIMEZONE
BEGIN:VEVENT
DTSTART;TZID=America/Los_Angeles:20260313T070000
DTEND;TZID=America/Los_Angeles:20260313T100000
DTSTAMP:20260419T152013
CREATED:20260104T220400Z
LAST-MODIFIED:20260410T185921Z
UID:10033295-1773385200-1773396000@fvsc.com
SUMMARY:Club Practice 7am-10am
DESCRIPTION:Private Practice for Club skaters only.
URL:https://fvsc.com/event/club-practice-7am-10am-2-2-2-2/2026-03-13/
CATEGORIES:Club Events
END:VEVENT
BEGIN:VEVENT
DTSTART;TZID=America/Los_Angeles:20260313T120000
DTEND;TZID=America/Los_Angeles:20260313T153000
DTSTAMP:20260419T152013
CREATED:20251007T201224Z
LAST-MODIFIED:20260410T182655Z
UID:10024728-1773403200-1773415800@fvsc.com
SUMMARY:Club Practice 12pm-3:30pm
DESCRIPTION:Private Practice for Club Skaters only
URL:https://fvsc.com/event/club-practice-1200pm-330pm-2/2026-03-13/
CATEGORIES:Club Events
END:VEVENT
BEGIN:VEVENT
DTSTART;TZID=America/Los_Angeles:20260314T170000
DTEND;TZID=America/Los_Angeles:20260314T180000
DTSTAMP:20260419T152013
CREATED:20241104T172551Z
LAST-MODIFIED:20260402T204401Z
UID:10018838-1773507600-1773511200@fvsc.com
SUMMARY:Club Practice 5pm-6pm
DESCRIPTION:Private Practice for Club skaters only.
URL:https://fvsc.com/event/club-practice-5pm-6pm/2026-03-14/
CATEGORIES:Club Events
END:VEVENT
BEGIN:VEVENT
DTSTART;TZID=America/Los_Angeles:20260315T070000
DTEND;TZID=America/Los_Angeles:20260315T104500
DTSTAMP:20260419T152013
CREATED:20250412T172400Z
LAST-MODIFIED:20260410T183711Z
UID:10037107-1773558000-1773571500@fvsc.com
SUMMARY:Club Practice 7am-10:45am
DESCRIPTION:Private Practice for Club skaters only.
URL:https://fvsc.com/event/club-practice-7am-11am-2-2-2/2026-03-15/
CATEGORIES:Club Events
END:VEVENT
BEGIN:VEVENT
DTSTART;TZID=America/Los_Angeles:20260316T070000
DTEND;TZID=America/Los_Angeles:20260316T160000
DTSTAMP:20260419T152013
CREATED:20240816T165913Z
LAST-MODIFIED:20260410T185748Z
UID:10035232-1773644400-1773676800@fvsc.com
SUMMARY:Club Practice 7am-4pm
DESCRIPTION:Private Practice for Club Skaters only
URL:https://fvsc.com/event/club-practice-700pm-400pm/2026-03-16/
CATEGORIES:Club Events
END:VEVENT
BEGIN:VEVENT
DTSTART;TZID=America/Los_Angeles:20260316T180000
DTEND;TZID=America/Los_Angeles:20260316T190000
DTSTAMP:20260419T152013
CREATED:20240815T191906Z
LAST-MODIFIED:20260410T184713Z
UID:10035626-1773684000-1773687600@fvsc.com
SUMMARY:Club Practice 6pm-7pm
DESCRIPTION:Private Practice for Club Skaters only
URL:https://fvsc.com/event/club-practice-6pm-7pm/2026-03-16/
CATEGORIES:Club Events
END:VEVENT
BEGIN:VEVENT
DTSTART;TZID=America/Los_Angeles:20260317T070000
DTEND;TZID=America/Los_Angeles:20260317T100000
DTSTAMP:20260419T152013
CREATED:20260104T220400Z
LAST-MODIFIED:20260410T185921Z
UID:10033297-1773730800-1773741600@fvsc.com
SUMMARY:Club Practice 7am-10am
DESCRIPTION:Private Practice for Club skaters only.
URL:https://fvsc.com/event/club-practice-7am-10am-2-2-2-2/2026-03-17/
CATEGORIES:Club Events
END:VEVENT
BEGIN:VEVENT
DTSTART;TZID=America/Los_Angeles:20260317T120000
DTEND;TZID=America/Los_Angeles:20260317T160000
DTSTAMP:20260419T152013
CREATED:20250319T162234Z
LAST-MODIFIED:20260410T190433Z
UID:10035022-1773748800-1773763200@fvsc.com
SUMMARY:Club Practice 12pm-4pm
DESCRIPTION:
URL:https://fvsc.com/event/club-practice-12pm-4pm/2026-03-17/
CATEGORIES:Club Events
END:VEVENT
BEGIN:VEVENT
DTSTART;TZID=America/Los_Angeles:20260317T200000
DTEND;TZID=America/Los_Angeles:20260317T230000
DTSTAMP:20260419T152013
CREATED:20250721T163605Z
LAST-MODIFIED:20250721T163606Z
UID:10007938-1773777600-1773788400@fvsc.com
SUMMARY:Club Practice 8pm-11pm
DESCRIPTION:Private Practice for Club skaters only.
URL:https://fvsc.com/event/club-practice-830pm-11pm-2-2-2-2-2/2026-03-17/
CATEGORIES:Club Events
END:VEVENT
BEGIN:VEVENT
DTSTART;TZID=America/Los_Angeles:20260318T070000
DTEND;TZID=America/Los_Angeles:20260318T100000
DTSTAMP:20260419T152013
CREATED:20260104T220400Z
LAST-MODIFIED:20260410T185921Z
UID:10033298-1773817200-1773828000@fvsc.com
SUMMARY:Club Practice 7am-10am
DESCRIPTION:Private Practice for Club skaters only.
URL:https://fvsc.com/event/club-practice-7am-10am-2-2-2-2/2026-03-18/
CATEGORIES:Club Events
END:VEVENT
BEGIN:VEVENT
DTSTART;TZID=America/Los_Angeles:20260318T130000
DTEND;TZID=America/Los_Angeles:20260318T160000
DTSTAMP:20260419T152013
CREATED:20241112T215145Z
LAST-MODIFIED:20260415T192914Z
UID:10035043-1773838800-1773849600@fvsc.com
SUMMARY:Club Practice 1pm-4pm
DESCRIPTION:
URL:https://fvsc.com/event/club-practice-1pm-4pm/2026-03-18/
CATEGORIES:Club Events
END:VEVENT
BEGIN:VEVENT
DTSTART;TZID=America/Los_Angeles:20260319T070000
DTEND;TZID=America/Los_Angeles:20260319T160000
DTSTAMP:20260419T152013
CREATED:20240816T165913Z
LAST-MODIFIED:20260410T185748Z
UID:10035233-1773903600-1773936000@fvsc.com
SUMMARY:Club Practice 7am-4pm
DESCRIPTION:Private Practice for Club Skaters only
URL:https://fvsc.com/event/club-practice-700pm-400pm/2026-03-19/
CATEGORIES:Club Events
END:VEVENT
BEGIN:VEVENT
DTSTART;TZID=America/Los_Angeles:20260320T070000
DTEND;TZID=America/Los_Angeles:20260320T100000
DTSTAMP:20260419T152013
CREATED:20260104T220400Z
LAST-MODIFIED:20260410T185921Z
UID:10033299-1773990000-1774000800@fvsc.com
SUMMARY:Club Practice 7am-10am
DESCRIPTION:Private Practice for Club skaters only.
URL:https://fvsc.com/event/club-practice-7am-10am-2-2-2-2/2026-03-20/
CATEGORIES:Club Events
END:VEVENT
BEGIN:VEVENT
DTSTART;TZID=America/Los_Angeles:20260320T120000
DTEND;TZID=America/Los_Angeles:20260320T130000
DTSTAMP:20260419T152013
CREATED:20240105T194546Z
LAST-MODIFIED:20260217T232302Z
UID:10035044-1774008000-1774011600@fvsc.com
SUMMARY:Club Practice 12pm-1pm
DESCRIPTION:Private Practice for Club skaters only.
URL:https://fvsc.com/event/club-practice-12pm-1pm-2/2026-03-20/
CATEGORIES:Club Events
END:VEVENT
BEGIN:VEVENT
DTSTART;TZID=America/Los_Angeles:20260321T170000
DTEND;TZID=America/Los_Angeles:20260321T180000
DTSTAMP:20260419T152013
CREATED:20241104T172551Z
LAST-MODIFIED:20260402T204401Z
UID:10018839-1774112400-1774116000@fvsc.com
SUMMARY:Club Practice 5pm-6pm
DESCRIPTION:Private Practice for Club skaters only.
URL:https://fvsc.com/event/club-practice-5pm-6pm/2026-03-21/
CATEGORIES:Club Events
END:VEVENT
BEGIN:VEVENT
DTSTART;TZID=America/Los_Angeles:20260322T100000
DTEND;TZID=America/Los_Angeles:20260322T104500
DTSTAMP:20260419T152013
CREATED:20260320T202306Z
LAST-MODIFIED:20260320T202306Z
UID:10037367-1774173600-1774176300@fvsc.com
SUMMARY:Club Practice 10am-10:45am
DESCRIPTION:
URL:https://fvsc.com/event/club-practice-10am-1045am/
CATEGORIES:Club Events
END:VEVENT
BEGIN:VEVENT
DTSTART;TZID=America/Los_Angeles:20260323T070000
DTEND;TZID=America/Los_Angeles:20260323T160000
DTSTAMP:20260419T152013
CREATED:20240816T165913Z
LAST-MODIFIED:20260410T185748Z
UID:10035234-1774249200-1774281600@fvsc.com
SUMMARY:Club Practice 7am-4pm
DESCRIPTION:Private Practice for Club Skaters only
URL:https://fvsc.com/event/club-practice-700pm-400pm/2026-03-23/
CATEGORIES:Club Events
END:VEVENT
BEGIN:VEVENT
DTSTART;TZID=America/Los_Angeles:20260324T070000
DTEND;TZID=America/Los_Angeles:20260324T100000
DTSTAMP:20260419T152013
CREATED:20260104T220400Z
LAST-MODIFIED:20260410T185921Z
UID:10033301-1774335600-1774346400@fvsc.com
SUMMARY:Club Practice 7am-10am
DESCRIPTION:Private Practice for Club skaters only.
URL:https://fvsc.com/event/club-practice-7am-10am-2-2-2-2/2026-03-24/
CATEGORIES:Club Events
END:VEVENT
BEGIN:VEVENT
DTSTART;TZID=America/Los_Angeles:20260324T120000
DTEND;TZID=America/Los_Angeles:20260324T160000
DTSTAMP:20260419T152013
CREATED:20250319T162234Z
LAST-MODIFIED:20260410T190433Z
UID:10035023-1774353600-1774368000@fvsc.com
SUMMARY:Club Practice 12pm-4pm
DESCRIPTION:
URL:https://fvsc.com/event/club-practice-12pm-4pm/2026-03-24/
CATEGORIES:Club Events
END:VEVENT
BEGIN:VEVENT
DTSTART;TZID=America/Los_Angeles:20260324T200000
DTEND;TZID=America/Los_Angeles:20260324T230000
DTSTAMP:20260419T152013
CREATED:20250721T163605Z
LAST-MODIFIED:20250721T163606Z
UID:10007939-1774382400-1774393200@fvsc.com
SUMMARY:Club Practice 8pm-11pm
DESCRIPTION:Private Practice for Club skaters only.
URL:https://fvsc.com/event/club-practice-830pm-11pm-2-2-2-2-2/2026-03-24/
CATEGORIES:Club Events
END:VEVENT
BEGIN:VEVENT
DTSTART;TZID=America/Los_Angeles:20260325T070000
DTEND;TZID=America/Los_Angeles:20260325T100000
DTSTAMP:20260419T152013
CREATED:20260104T220400Z
LAST-MODIFIED:20260410T185921Z
UID:10033302-1774422000-1774432800@fvsc.com
SUMMARY:Club Practice 7am-10am
DESCRIPTION:Private Practice for Club skaters only.
URL:https://fvsc.com/event/club-practice-7am-10am-2-2-2-2/2026-03-25/
CATEGORIES:Club Events
END:VEVENT
BEGIN:VEVENT
DTSTART;TZID=America/Los_Angeles:20260325T130000
DTEND;TZID=America/Los_Angeles:20260325T160000
DTSTAMP:20260419T152013
CREATED:20241112T215145Z
LAST-MODIFIED:20260415T192914Z
UID:10035045-1774443600-1774454400@fvsc.com
SUMMARY:Club Practice 1pm-4pm
DESCRIPTION:
URL:https://fvsc.com/event/club-practice-1pm-4pm/2026-03-25/
CATEGORIES:Club Events
END:VEVENT
BEGIN:VEVENT
DTSTART;TZID=America/Los_Angeles:20260326T070000
DTEND;TZID=America/Los_Angeles:20260326T160000
DTSTAMP:20260419T152013
CREATED:20240816T165913Z
LAST-MODIFIED:20260410T185748Z
UID:10035235-1774508400-1774540800@fvsc.com
SUMMARY:Club Practice 7am-4pm
DESCRIPTION:Private Practice for Club Skaters only
URL:https://fvsc.com/event/club-practice-700pm-400pm/2026-03-26/
CATEGORIES:Club Events
END:VEVENT
BEGIN:VEVENT
DTSTART;TZID=America/Los_Angeles:20260327T070000
DTEND;TZID=America/Los_Angeles:20260327T100000
DTSTAMP:20260419T152013
CREATED:20260104T220400Z
LAST-MODIFIED:20260410T185921Z
UID:10033303-1774594800-1774605600@fvsc.com
SUMMARY:Club Practice 7am-10am
DESCRIPTION:Private Practice for Club skaters only.
URL:https://fvsc.com/event/club-practice-7am-10am-2-2-2-2/2026-03-27/
CATEGORIES:Club Events
END:VEVENT
BEGIN:VEVENT
DTSTART;TZID=America/Los_Angeles:20260327T120000
DTEND;TZID=America/Los_Angeles:20260327T153000
DTSTAMP:20260419T152013
CREATED:20251007T201224Z
LAST-MODIFIED:20260410T182655Z
UID:10024730-1774612800-1774625400@fvsc.com
SUMMARY:Club Practice 12pm-3:30pm
DESCRIPTION:Private Practice for Club Skaters only
URL:https://fvsc.com/event/club-practice-1200pm-330pm-2/2026-03-27/
CATEGORIES:Club Events
END:VEVENT
BEGIN:VEVENT
DTSTART;TZID=America/Los_Angeles:20260328T170000
DTEND;TZID=America/Los_Angeles:20260328T180000
DTSTAMP:20260419T152013
CREATED:20241104T172551Z
LAST-MODIFIED:20260402T204401Z
UID:10018840-1774717200-1774720800@fvsc.com
SUMMARY:Club Practice 5pm-6pm
DESCRIPTION:Private Practice for Club skaters only.
URL:https://fvsc.com/event/club-practice-5pm-6pm/2026-03-28/
CATEGORIES:Club Events
END:VEVENT
BEGIN:VEVENT
DTSTART;TZID=America/Los_Angeles:20260329T070000
DTEND;TZID=America/Los_Angeles:20260329T104500
DTSTAMP:20260419T152013
CREATED:20250412T172400Z
LAST-MODIFIED:20260410T183711Z
UID:10037108-1774767600-1774781100@fvsc.com
SUMMARY:Club Practice 7am-10:45am
DESCRIPTION:Private Practice for Club skaters only.
URL:https://fvsc.com/event/club-practice-7am-11am-2-2-2/2026-03-29/
CATEGORIES:Club Events
END:VEVENT
BEGIN:VEVENT
DTSTART;TZID=America/Los_Angeles:20260330T070000
DTEND;TZID=America/Los_Angeles:20260330T190000
DTSTAMP:20260419T152013
CREATED:20260312T195851Z
LAST-MODIFIED:20260326T172123Z
UID:10037368-1774854000-1774897200@fvsc.com
SUMMARY:Club Practice 7am-7pm
DESCRIPTION:
URL:https://fvsc.com/event/club-practice-7am-7pm/2026-03-30/
CATEGORIES:Club Events
END:VEVENT
BEGIN:VEVENT
DTSTART;TZID=America/Los_Angeles:20260331T070000
DTEND;TZID=America/Los_Angeles:20260331T100000
DTSTAMP:20260419T152013
CREATED:20260104T220400Z
LAST-MODIFIED:20260410T185921Z
UID:10033305-1774940400-1774951200@fvsc.com
SUMMARY:Club Practice 7am-10am
DESCRIPTION:Private Practice for Club skaters only.
URL:https://fvsc.com/event/club-practice-7am-10am-2-2-2-2/2026-03-31/
CATEGORIES:Club Events
END:VEVENT
BEGIN:VEVENT
DTSTART;TZID=America/Los_Angeles:20260331T120000
DTEND;TZID=America/Los_Angeles:20260331T160000
DTSTAMP:20260419T152013
CREATED:20250319T162234Z
LAST-MODIFIED:20260410T190433Z
UID:10035024-1774958400-1774972800@fvsc.com
SUMMARY:Club Practice 12pm-4pm
DESCRIPTION:
URL:https://fvsc.com/event/club-practice-12pm-4pm/2026-03-31/
CATEGORIES:Club Events
END:VEVENT
END:VCALENDAR