BEGIN:VCALENDAR
VERSION:2.0
PRODID:-//Fountain Valley Skating Center - ECPv6.15.12.2//NONSGML v1.0//EN
CALSCALE:GREGORIAN
METHOD:PUBLISH
X-WR-CALNAME:Fountain Valley Skating Center
X-ORIGINAL-URL:https://fvsc.com
X-WR-CALDESC:Events for Fountain Valley Skating Center
REFRESH-INTERVAL;VALUE=DURATION:PT1H
X-Robots-Tag:noindex
X-PUBLISHED-TTL:PT1H
BEGIN:VTIMEZONE
TZID:America/Los_Angeles
BEGIN:DAYLIGHT
TZOFFSETFROM:-0800
TZOFFSETTO:-0700
TZNAME:PDT
DTSTART:20250309T100000
END:DAYLIGHT
BEGIN:STANDARD
TZOFFSETFROM:-0700
TZOFFSETTO:-0800
TZNAME:PST
DTSTART:20251102T090000
END:STANDARD
BEGIN:DAYLIGHT
TZOFFSETFROM:-0800
TZOFFSETTO:-0700
TZNAME:PDT
DTSTART:20260308T100000
END:DAYLIGHT
BEGIN:STANDARD
TZOFFSETFROM:-0700
TZOFFSETTO:-0800
TZNAME:PST
DTSTART:20261101T090000
END:STANDARD
BEGIN:DAYLIGHT
TZOFFSETFROM:-0800
TZOFFSETTO:-0700
TZNAME:PDT
DTSTART:20270314T100000
END:DAYLIGHT
BEGIN:STANDARD
TZOFFSETFROM:-0700
TZOFFSETTO:-0800
TZNAME:PST
DTSTART:20271107T090000
END:STANDARD
END:VTIMEZONE
BEGIN:VEVENT
DTSTART;TZID=America/Los_Angeles:20260418T170000
DTEND;TZID=America/Los_Angeles:20260418T180000
DTSTAMP:20260423T163426
CREATED:20241104T172551Z
LAST-MODIFIED:20260402T204401Z
UID:10018843-1776531600-1776535200@fvsc.com
SUMMARY:Club Practice 5pm-6pm
DESCRIPTION:Private Practice for Club skaters only.
URL:https://fvsc.com/event/club-practice-5pm-6pm/2026-04-18/
CATEGORIES:Club Events
END:VEVENT
BEGIN:VEVENT
DTSTART;TZID=America/Los_Angeles:20260419T070000
DTEND;TZID=America/Los_Angeles:20260419T104500
DTSTAMP:20260423T163426
CREATED:20250412T172400Z
LAST-MODIFIED:20260410T183711Z
UID:10037110-1776582000-1776595500@fvsc.com
SUMMARY:Club Practice 7am-10:45am
DESCRIPTION:Private Practice for Club skaters only.
URL:https://fvsc.com/event/club-practice-7am-11am-2-2-2/2026-04-19/
CATEGORIES:Club Events
END:VEVENT
BEGIN:VEVENT
DTSTART;TZID=America/Los_Angeles:20260421T200000
DTEND;TZID=America/Los_Angeles:20260421T230000
DTSTAMP:20260423T163426
CREATED:20250721T163605Z
LAST-MODIFIED:20250721T163606Z
UID:10007943-1776801600-1776812400@fvsc.com
SUMMARY:Club Practice 8pm-11pm
DESCRIPTION:Private Practice for Club skaters only.
URL:https://fvsc.com/event/club-practice-830pm-11pm-2-2-2-2-2/2026-04-21/
CATEGORIES:Club Events
END:VEVENT
BEGIN:VEVENT
DTSTART;TZID=America/Los_Angeles:20260423T070000
DTEND;TZID=America/Los_Angeles:20260423T140000
DTSTAMP:20260423T163426
CREATED:20240502T173248Z
LAST-MODIFIED:20260312T194241Z
UID:10035607-1776927600-1776952800@fvsc.com
SUMMARY:Club Practice 7am-2pm
DESCRIPTION:
URL:https://fvsc.com/event/club-practice-7am-2pm/2026-04-23/
CATEGORIES:Club Events
END:VEVENT
BEGIN:VEVENT
DTSTART;TZID=America/Los_Angeles:20260424T070000
DTEND;TZID=America/Los_Angeles:20260424T100000
DTSTAMP:20260423T163426
CREATED:20260104T220400Z
LAST-MODIFIED:20260421T210705Z
UID:10038571-1777014000-1777024800@fvsc.com
SUMMARY:Club Practice 7am-10am
DESCRIPTION:Private Practice for Club skaters only.
URL:https://fvsc.com/event/club-practice-7am-10am-2-2-2-2/2026-04-24/
CATEGORIES:Club Events
END:VEVENT
BEGIN:VEVENT
DTSTART;TZID=America/Los_Angeles:20260424T120000
DTEND;TZID=America/Los_Angeles:20260424T153000
DTSTAMP:20260423T163426
CREATED:20251007T201224Z
LAST-MODIFIED:20260410T182655Z
UID:10024734-1777032000-1777044600@fvsc.com
SUMMARY:Club Practice 12pm-3:30pm
DESCRIPTION:Private Practice for Club Skaters only
URL:https://fvsc.com/event/club-practice-1200pm-330pm-2/2026-04-24/
CATEGORIES:Club Events
END:VEVENT
BEGIN:VEVENT
DTSTART;TZID=America/Los_Angeles:20260425T170000
DTEND;TZID=America/Los_Angeles:20260425T180000
DTSTAMP:20260423T163426
CREATED:20241104T172551Z
LAST-MODIFIED:20260402T204401Z
UID:10018844-1777136400-1777140000@fvsc.com
SUMMARY:Club Practice 5pm-6pm
DESCRIPTION:Private Practice for Club skaters only.
URL:https://fvsc.com/event/club-practice-5pm-6pm/2026-04-25/
CATEGORIES:Club Events
END:VEVENT
BEGIN:VEVENT
DTSTART;TZID=America/Los_Angeles:20260426T070000
DTEND;TZID=America/Los_Angeles:20260426T104500
DTSTAMP:20260423T163426
CREATED:20250412T172400Z
LAST-MODIFIED:20260410T183711Z
UID:10037111-1777186800-1777200300@fvsc.com
SUMMARY:Club Practice 7am-10:45am
DESCRIPTION:Private Practice for Club skaters only.
URL:https://fvsc.com/event/club-practice-7am-11am-2-2-2/2026-04-26/
CATEGORIES:Club Events
END:VEVENT
BEGIN:VEVENT
DTSTART;TZID=America/Los_Angeles:20260427T070000
DTEND;TZID=America/Los_Angeles:20260427T160000
DTSTAMP:20260423T163426
CREATED:20240816T165913Z
LAST-MODIFIED:20260422T194613Z
UID:10038697-1777273200-1777305600@fvsc.com
SUMMARY:Club Practice 7am-4pm
DESCRIPTION:Private Practice for Club Skaters only
URL:https://fvsc.com/event/club-practice-700pm-400pm/2026-04-27/
CATEGORIES:Club Events
END:VEVENT
BEGIN:VEVENT
DTSTART;TZID=America/Los_Angeles:20260428T070000
DTEND;TZID=America/Los_Angeles:20260428T100000
DTSTAMP:20260423T163426
CREATED:20260104T220400Z
LAST-MODIFIED:20260421T210705Z
UID:10038572-1777359600-1777370400@fvsc.com
SUMMARY:Club Practice 7am-10am
DESCRIPTION:Private Practice for Club skaters only.
URL:https://fvsc.com/event/club-practice-7am-10am-2-2-2-2/2026-04-28/
CATEGORIES:Club Events
END:VEVENT
BEGIN:VEVENT
DTSTART;TZID=America/Los_Angeles:20260428T120000
DTEND;TZID=America/Los_Angeles:20260428T160000
DTSTAMP:20260423T163426
CREATED:20260421T172346Z
LAST-MODIFIED:20260421T172739Z
UID:10035586-1777377600-1777392000@fvsc.com
SUMMARY:Club Practice 12pm-4pm
DESCRIPTION:
URL:https://fvsc.com/event/club-practice-12pm-4pm-2/2026-04-28/
CATEGORIES:Club Events
END:VEVENT
BEGIN:VEVENT
DTSTART;TZID=America/Los_Angeles:20260428T200000
DTEND;TZID=America/Los_Angeles:20260428T230000
DTSTAMP:20260423T163426
CREATED:20250721T163605Z
LAST-MODIFIED:20250721T163606Z
UID:10007944-1777406400-1777417200@fvsc.com
SUMMARY:Club Practice 8pm-11pm
DESCRIPTION:Private Practice for Club skaters only.
URL:https://fvsc.com/event/club-practice-830pm-11pm-2-2-2-2-2/2026-04-28/
CATEGORIES:Club Events
END:VEVENT
BEGIN:VEVENT
DTSTART;TZID=America/Los_Angeles:20260429T070000
DTEND;TZID=America/Los_Angeles:20260429T100000
DTSTAMP:20260423T163426
CREATED:20260104T220400Z
LAST-MODIFIED:20260421T210705Z
UID:10038573-1777446000-1777456800@fvsc.com
SUMMARY:Club Practice 7am-10am
DESCRIPTION:Private Practice for Club skaters only.
URL:https://fvsc.com/event/club-practice-7am-10am-2-2-2-2/2026-04-29/
CATEGORIES:Club Events
END:VEVENT
BEGIN:VEVENT
DTSTART;TZID=America/Los_Angeles:20260429T130000
DTEND;TZID=America/Los_Angeles:20260429T160000
DTSTAMP:20260423T163426
CREATED:20241112T215145Z
LAST-MODIFIED:20260421T211007Z
UID:10035574-1777467600-1777478400@fvsc.com
SUMMARY:Club Practice 1pm-4pm
DESCRIPTION:
URL:https://fvsc.com/event/club-practice-1pm-4pm/2026-04-29/
CATEGORIES:Club Events
END:VEVENT
BEGIN:VEVENT
DTSTART;TZID=America/Los_Angeles:20260430T070000
DTEND;TZID=America/Los_Angeles:20260430T180000
DTSTAMP:20260423T163426
CREATED:20260410T190802Z
LAST-MODIFIED:20260422T194857Z
UID:10037416-1777532400-1777572000@fvsc.com
SUMMARY:Club Practice 7am-6pm
DESCRIPTION:
URL:https://fvsc.com/event/club-practice-7am-6pm/2026-04-30/
CATEGORIES:Club Events
END:VEVENT
BEGIN:VEVENT
DTSTART;TZID=America/Los_Angeles:20260501T070000
DTEND;TZID=America/Los_Angeles:20260501T100000
DTSTAMP:20260423T163426
CREATED:20260104T220400Z
LAST-MODIFIED:20260421T210705Z
UID:10038574-1777618800-1777629600@fvsc.com
SUMMARY:Club Practice 7am-10am
DESCRIPTION:Private Practice for Club skaters only.
URL:https://fvsc.com/event/club-practice-7am-10am-2-2-2-2/2026-05-01/
CATEGORIES:Club Events
END:VEVENT
BEGIN:VEVENT
DTSTART;TZID=America/Los_Angeles:20260501T120000
DTEND;TZID=America/Los_Angeles:20260501T153000
DTSTAMP:20260423T163426
CREATED:20251007T201224Z
LAST-MODIFIED:20260410T182655Z
UID:10024735-1777636800-1777649400@fvsc.com
SUMMARY:Club Practice 12pm-3:30pm
DESCRIPTION:Private Practice for Club Skaters only
URL:https://fvsc.com/event/club-practice-1200pm-330pm-2/2026-05-01/
CATEGORIES:Club Events
END:VEVENT
BEGIN:VEVENT
DTSTART;TZID=America/Los_Angeles:20260502T170000
DTEND;TZID=America/Los_Angeles:20260502T180000
DTSTAMP:20260423T163426
CREATED:20241104T172551Z
LAST-MODIFIED:20260402T204401Z
UID:10018845-1777741200-1777744800@fvsc.com
SUMMARY:Club Practice 5pm-6pm
DESCRIPTION:Private Practice for Club skaters only.
URL:https://fvsc.com/event/club-practice-5pm-6pm/2026-05-02/
CATEGORIES:Club Events
END:VEVENT
BEGIN:VEVENT
DTSTART;TZID=America/Los_Angeles:20260503T070000
DTEND;TZID=America/Los_Angeles:20260503T104500
DTSTAMP:20260423T163426
CREATED:20250412T172400Z
LAST-MODIFIED:20260410T183711Z
UID:10037112-1777791600-1777805100@fvsc.com
SUMMARY:Club Practice 7am-10:45am
DESCRIPTION:Private Practice for Club skaters only.
URL:https://fvsc.com/event/club-practice-7am-11am-2-2-2/2026-05-03/
CATEGORIES:Club Events
END:VEVENT
BEGIN:VEVENT
DTSTART;TZID=America/Los_Angeles:20260504T070000
DTEND;TZID=America/Los_Angeles:20260504T160000
DTSTAMP:20260423T163426
CREATED:20260420T164330Z
LAST-MODIFIED:20260422T204641Z
UID:10038588-1777878000-1777910400@fvsc.com
SUMMARY:Club Practice 7am-4pm
DESCRIPTION:Private Practice for Club Skaters only
URL:https://fvsc.com/event/club-practice-700pm-400pm-2/2026-05-04/
CATEGORIES:Club Events
END:VEVENT
BEGIN:VEVENT
DTSTART;TZID=America/Los_Angeles:20260505T070000
DTEND;TZID=America/Los_Angeles:20260505T100000
DTSTAMP:20260423T163426
CREATED:20260104T220400Z
LAST-MODIFIED:20260421T210705Z
UID:10038575-1777964400-1777975200@fvsc.com
SUMMARY:Club Practice 7am-10am
DESCRIPTION:Private Practice for Club skaters only.
URL:https://fvsc.com/event/club-practice-7am-10am-2-2-2-2/2026-05-05/
CATEGORIES:Club Events
END:VEVENT
BEGIN:VEVENT
DTSTART;TZID=America/Los_Angeles:20260505T200000
DTEND;TZID=America/Los_Angeles:20260505T230000
DTSTAMP:20260423T163426
CREATED:20250721T163605Z
LAST-MODIFIED:20250721T163606Z
UID:10007945-1778011200-1778022000@fvsc.com
SUMMARY:Club Practice 8pm-11pm
DESCRIPTION:Private Practice for Club skaters only.
URL:https://fvsc.com/event/club-practice-830pm-11pm-2-2-2-2-2/2026-05-05/
CATEGORIES:Club Events
END:VEVENT
BEGIN:VEVENT
DTSTART;TZID=America/Los_Angeles:20260506T070000
DTEND;TZID=America/Los_Angeles:20260506T100000
DTSTAMP:20260423T163426
CREATED:20260104T220400Z
LAST-MODIFIED:20260421T210705Z
UID:10038576-1778050800-1778061600@fvsc.com
SUMMARY:Club Practice 7am-10am
DESCRIPTION:Private Practice for Club skaters only.
URL:https://fvsc.com/event/club-practice-7am-10am-2-2-2-2/2026-05-06/
CATEGORIES:Club Events
END:VEVENT
BEGIN:VEVENT
DTSTART;TZID=America/Los_Angeles:20260506T130000
DTEND;TZID=America/Los_Angeles:20260506T140000
DTSTAMP:20260423T163426
CREATED:20241001T160733Z
LAST-MODIFIED:20260410T181953Z
UID:10037379-1778072400-1778076000@fvsc.com
SUMMARY:Club Practice 1pm-2pm
DESCRIPTION:
URL:https://fvsc.com/event/club-practice-100pm-200pm/2026-05-06/
CATEGORIES:Club Events
END:VEVENT
BEGIN:VEVENT
DTSTART;TZID=America/Los_Angeles:20260507T070000
DTEND;TZID=America/Los_Angeles:20260507T160000
DTSTAMP:20260423T163426
CREATED:20260420T164330Z
LAST-MODIFIED:20260422T204641Z
UID:10038699-1778137200-1778169600@fvsc.com
SUMMARY:Club Practice 7am-4pm
DESCRIPTION:Private Practice for Club Skaters only
URL:https://fvsc.com/event/club-practice-700pm-400pm-2/2026-05-07/
CATEGORIES:Club Events
END:VEVENT
BEGIN:VEVENT
DTSTART;TZID=America/Los_Angeles:20260508T070000
DTEND;TZID=America/Los_Angeles:20260508T100000
DTSTAMP:20260423T163426
CREATED:20260104T220400Z
LAST-MODIFIED:20260421T210705Z
UID:10038577-1778223600-1778234400@fvsc.com
SUMMARY:Club Practice 7am-10am
DESCRIPTION:Private Practice for Club skaters only.
URL:https://fvsc.com/event/club-practice-7am-10am-2-2-2-2/2026-05-08/
CATEGORIES:Club Events
END:VEVENT
BEGIN:VEVENT
DTSTART;TZID=America/Los_Angeles:20260508T140000
DTEND;TZID=America/Los_Angeles:20260508T153000
DTSTAMP:20260423T163426
CREATED:20260410T183100Z
LAST-MODIFIED:20260410T183109Z
UID:10037385-1778248800-1778254200@fvsc.com
SUMMARY:Club Practice
DESCRIPTION:
URL:https://fvsc.com/event/club-practice-3/
CATEGORIES:Club Events
END:VEVENT
BEGIN:VEVENT
DTSTART;TZID=America/Los_Angeles:20260509T170000
DTEND;TZID=America/Los_Angeles:20260509T180000
DTSTAMP:20260423T163426
CREATED:20241104T172551Z
LAST-MODIFIED:20260402T204401Z
UID:10018846-1778346000-1778349600@fvsc.com
SUMMARY:Club Practice 5pm-6pm
DESCRIPTION:Private Practice for Club skaters only.
URL:https://fvsc.com/event/club-practice-5pm-6pm/2026-05-09/
CATEGORIES:Club Events
END:VEVENT
BEGIN:VEVENT
DTSTART;TZID=America/Los_Angeles:20260510T060000
DTEND;TZID=America/Los_Angeles:20260510T193000
DTSTAMP:20260423T163426
CREATED:20260410T192737Z
LAST-MODIFIED:20260410T192737Z
UID:10037520-1778392800-1778441400@fvsc.com
SUMMARY:Mother's Day Contest
DESCRIPTION:
URL:https://fvsc.com/event/mothers-day-contest/
CATEGORIES:Club Events
END:VEVENT
BEGIN:VEVENT
DTSTART;TZID=America/Los_Angeles:20260511T070000
DTEND;TZID=America/Los_Angeles:20260511T160000
DTSTAMP:20260423T163426
CREATED:20260420T164330Z
LAST-MODIFIED:20260422T204641Z
UID:10038589-1778482800-1778515200@fvsc.com
SUMMARY:Club Practice 7am-4pm
DESCRIPTION:Private Practice for Club Skaters only
URL:https://fvsc.com/event/club-practice-700pm-400pm-2/2026-05-11/
CATEGORIES:Club Events
END:VEVENT
END:VCALENDAR