BEGIN:VCALENDAR
VERSION:2.0
PRODID:-//Fountain Valley Skating Center - ECPv6.15.12.2//NONSGML v1.0//EN
CALSCALE:GREGORIAN
METHOD:PUBLISH
X-WR-CALNAME:Fountain Valley Skating Center
X-ORIGINAL-URL:https://fvsc.com
X-WR-CALDESC:Events for Fountain Valley Skating Center
REFRESH-INTERVAL;VALUE=DURATION:PT1H
X-Robots-Tag:noindex
X-PUBLISHED-TTL:PT1H
BEGIN:VTIMEZONE
TZID:America/Los_Angeles
BEGIN:DAYLIGHT
TZOFFSETFROM:-0800
TZOFFSETTO:-0700
TZNAME:PDT
DTSTART:20240310T100000
END:DAYLIGHT
BEGIN:STANDARD
TZOFFSETFROM:-0700
TZOFFSETTO:-0800
TZNAME:PST
DTSTART:20241103T090000
END:STANDARD
BEGIN:DAYLIGHT
TZOFFSETFROM:-0800
TZOFFSETTO:-0700
TZNAME:PDT
DTSTART:20250309T100000
END:DAYLIGHT
BEGIN:STANDARD
TZOFFSETFROM:-0700
TZOFFSETTO:-0800
TZNAME:PST
DTSTART:20251102T090000
END:STANDARD
BEGIN:DAYLIGHT
TZOFFSETFROM:-0800
TZOFFSETTO:-0700
TZNAME:PDT
DTSTART:20260308T100000
END:DAYLIGHT
BEGIN:STANDARD
TZOFFSETFROM:-0700
TZOFFSETTO:-0800
TZNAME:PST
DTSTART:20261101T090000
END:STANDARD
END:VTIMEZONE
BEGIN:VEVENT
DTSTART;TZID=America/Los_Angeles:20250221T070000
DTEND;TZID=America/Los_Angeles:20250221T100000
DTSTAMP:20260423T141547
CREATED:20241118T202741Z
LAST-MODIFIED:20260420T165033Z
UID:10006356-1740121200-1740132000@fvsc.com
SUMMARY:Club Practice 7am-10am
DESCRIPTION:Private Practice for Club skaters only.
URL:https://fvsc.com/event/club-practice-7am-10am-2-2-2/2025-02-21/
CATEGORIES:Club Events
END:VEVENT
BEGIN:VEVENT
DTSTART;TZID=America/Los_Angeles:20250221T120000
DTEND;TZID=America/Los_Angeles:20250221T153000
DTSTAMP:20260423T141547
CREATED:20240816T165237Z
LAST-MODIFIED:20260410T182814Z
UID:10020948-1740139200-1740151800@fvsc.com
SUMMARY:Club Practice 12pm-3:30pm
DESCRIPTION:Private Practice for Club Skaters only
URL:https://fvsc.com/event/club-practice-1200pm-330pm/2025-02-21/
CATEGORIES:Club Events
END:VEVENT
BEGIN:VEVENT
DTSTART;TZID=America/Los_Angeles:20250222T170000
DTEND;TZID=America/Los_Angeles:20250222T180000
DTSTAMP:20260423T141547
CREATED:20241104T172551Z
LAST-MODIFIED:20260402T204401Z
UID:10018783-1740243600-1740247200@fvsc.com
SUMMARY:Club Practice 5pm-6pm
DESCRIPTION:Private Practice for Club skaters only.
URL:https://fvsc.com/event/club-practice-5pm-6pm/2025-02-22/
CATEGORIES:Club Events
END:VEVENT
BEGIN:VEVENT
DTSTART;TZID=America/Los_Angeles:20250224T070000
DTEND;TZID=America/Los_Angeles:20250224T100000
DTSTAMP:20260423T141547
CREATED:20241118T202741Z
LAST-MODIFIED:20260420T165033Z
UID:10032458-1740380400-1740391200@fvsc.com
SUMMARY:Club Practice 7am-10am
DESCRIPTION:Private Practice for Club skaters only.
URL:https://fvsc.com/event/club-practice-7am-10am-2-2-2/2025-02-24/
CATEGORIES:Club Events
END:VEVENT
BEGIN:VEVENT
DTSTART;TZID=America/Los_Angeles:20250224T070000
DTEND;TZID=America/Los_Angeles:20250224T160000
DTSTAMP:20260423T141547
CREATED:20240816T165913Z
LAST-MODIFIED:20260422T194613Z
UID:10020928-1740380400-1740412800@fvsc.com
SUMMARY:Club Practice 7am-4pm
DESCRIPTION:Private Practice for Club Skaters only
URL:https://fvsc.com/event/club-practice-700pm-400pm/2025-02-24/
CATEGORIES:Club Events
END:VEVENT
BEGIN:VEVENT
DTSTART;TZID=America/Los_Angeles:20250224T180000
DTEND;TZID=America/Los_Angeles:20250224T190000
DTSTAMP:20260423T141547
CREATED:20240815T191906Z
LAST-MODIFIED:20260410T184713Z
UID:10025044-1740420000-1740423600@fvsc.com
SUMMARY:Club Practice 6pm-7pm
DESCRIPTION:Private Practice for Club Skaters only
URL:https://fvsc.com/event/club-practice-6pm-7pm/2025-02-24/
CATEGORIES:Club Events
END:VEVENT
BEGIN:VEVENT
DTSTART;TZID=America/Los_Angeles:20250225T070000
DTEND;TZID=America/Los_Angeles:20250225T100000
DTSTAMP:20260423T141547
CREATED:20241118T202741Z
LAST-MODIFIED:20260420T165033Z
UID:10020383-1740466800-1740477600@fvsc.com
SUMMARY:Club Practice 7am-10am
DESCRIPTION:Private Practice for Club skaters only.
URL:https://fvsc.com/event/club-practice-7am-10am-2-2-2/2025-02-25/
CATEGORIES:Club Events
END:VEVENT
BEGIN:VEVENT
DTSTART;TZID=America/Los_Angeles:20250225T200000
DTEND;TZID=America/Los_Angeles:20250225T230000
DTSTAMP:20260423T141547
CREATED:20240625T005524Z
LAST-MODIFIED:20250501T215538Z
UID:10007883-1740513600-1740524400@fvsc.com
SUMMARY:Club Practice 8pm-11pm
DESCRIPTION:Private Practice for Club skaters only.
URL:https://fvsc.com/event/club-practice-830pm-11pm-2-2-2/2025-02-25/
CATEGORIES:Club Events
END:VEVENT
BEGIN:VEVENT
DTSTART;TZID=America/Los_Angeles:20250226T070000
DTEND;TZID=America/Los_Angeles:20250226T100000
DTSTAMP:20260423T141547
CREATED:20241118T202741Z
LAST-MODIFIED:20260420T165033Z
UID:10032695-1740553200-1740564000@fvsc.com
SUMMARY:Club Practice 7am-10am
DESCRIPTION:Private Practice for Club skaters only.
URL:https://fvsc.com/event/club-practice-7am-10am-2-2-2/2025-02-26/
CATEGORIES:Club Events
END:VEVENT
BEGIN:VEVENT
DTSTART;TZID=America/Los_Angeles:20250226T130000
DTEND;TZID=America/Los_Angeles:20250226T160000
DTSTAMP:20260423T141547
CREATED:20241112T215145Z
LAST-MODIFIED:20260421T211007Z
UID:10020964-1740574800-1740585600@fvsc.com
SUMMARY:Club Practice 1pm-4pm
DESCRIPTION:
URL:https://fvsc.com/event/club-practice-1pm-4pm/2025-02-26/
CATEGORIES:Club Events
END:VEVENT
BEGIN:VEVENT
DTSTART;TZID=America/Los_Angeles:20250227T070000
DTEND;TZID=America/Los_Angeles:20250227T160000
DTSTAMP:20260423T141547
CREATED:20240816T165913Z
LAST-MODIFIED:20260422T194613Z
UID:10020929-1740639600-1740672000@fvsc.com
SUMMARY:Club Practice 7am-4pm
DESCRIPTION:Private Practice for Club Skaters only
URL:https://fvsc.com/event/club-practice-700pm-400pm/2025-02-27/
CATEGORIES:Club Events
END:VEVENT
BEGIN:VEVENT
DTSTART;TZID=America/Los_Angeles:20250228T070000
DTEND;TZID=America/Los_Angeles:20250228T100000
DTSTAMP:20260423T141547
CREATED:20241118T202741Z
LAST-MODIFIED:20260420T165033Z
UID:10006359-1740726000-1740736800@fvsc.com
SUMMARY:Club Practice 7am-10am
DESCRIPTION:Private Practice for Club skaters only.
URL:https://fvsc.com/event/club-practice-7am-10am-2-2-2/2025-02-28/
CATEGORIES:Club Events
END:VEVENT
BEGIN:VEVENT
DTSTART;TZID=America/Los_Angeles:20250228T120000
DTEND;TZID=America/Los_Angeles:20250228T153000
DTSTAMP:20260423T141547
CREATED:20240816T165237Z
LAST-MODIFIED:20260410T182814Z
UID:10020949-1740744000-1740756600@fvsc.com
SUMMARY:Club Practice 12pm-3:30pm
DESCRIPTION:Private Practice for Club Skaters only
URL:https://fvsc.com/event/club-practice-1200pm-330pm/2025-02-28/
CATEGORIES:Club Events
END:VEVENT
BEGIN:VEVENT
DTSTART;TZID=America/Los_Angeles:20250301T170000
DTEND;TZID=America/Los_Angeles:20250301T180000
DTSTAMP:20260423T141547
CREATED:20241104T172551Z
LAST-MODIFIED:20260402T204401Z
UID:10018784-1740848400-1740852000@fvsc.com
SUMMARY:Club Practice 5pm-6pm
DESCRIPTION:Private Practice for Club skaters only.
URL:https://fvsc.com/event/club-practice-5pm-6pm/2025-03-01/
CATEGORIES:Club Events
END:VEVENT
BEGIN:VEVENT
DTSTART;TZID=America/Los_Angeles:20250303T070000
DTEND;TZID=America/Los_Angeles:20250303T100000
DTSTAMP:20260423T141547
CREATED:20241118T202741Z
LAST-MODIFIED:20260420T165033Z
UID:10032459-1740985200-1740996000@fvsc.com
SUMMARY:Club Practice 7am-10am
DESCRIPTION:Private Practice for Club skaters only.
URL:https://fvsc.com/event/club-practice-7am-10am-2-2-2/2025-03-03/
CATEGORIES:Club Events
END:VEVENT
BEGIN:VEVENT
DTSTART;TZID=America/Los_Angeles:20250303T070000
DTEND;TZID=America/Los_Angeles:20250303T160000
DTSTAMP:20260423T141547
CREATED:20240816T165913Z
LAST-MODIFIED:20260422T194613Z
UID:10024970-1740985200-1741017600@fvsc.com
SUMMARY:Club Practice 7am-4pm
DESCRIPTION:Private Practice for Club Skaters only
URL:https://fvsc.com/event/club-practice-700pm-400pm/2025-03-03/
CATEGORIES:Club Events
END:VEVENT
BEGIN:VEVENT
DTSTART;TZID=America/Los_Angeles:20250304T070000
DTEND;TZID=America/Los_Angeles:20250304T100000
DTSTAMP:20260423T141547
CREATED:20241118T202741Z
LAST-MODIFIED:20260420T165033Z
UID:10032460-1741071600-1741082400@fvsc.com
SUMMARY:Club Practice 7am-10am
DESCRIPTION:Private Practice for Club skaters only.
URL:https://fvsc.com/event/club-practice-7am-10am-2-2-2/2025-03-04/
CATEGORIES:Club Events
END:VEVENT
BEGIN:VEVENT
DTSTART;TZID=America/Los_Angeles:20250304T200000
DTEND;TZID=America/Los_Angeles:20250304T230000
DTSTAMP:20260423T141547
CREATED:20240625T005524Z
LAST-MODIFIED:20250501T215538Z
UID:10007884-1741118400-1741129200@fvsc.com
SUMMARY:Club Practice 8pm-11pm
DESCRIPTION:Private Practice for Club skaters only.
URL:https://fvsc.com/event/club-practice-830pm-11pm-2-2-2/2025-03-04/
CATEGORIES:Club Events
END:VEVENT
BEGIN:VEVENT
DTSTART;TZID=America/Los_Angeles:20250305T070000
DTEND;TZID=America/Los_Angeles:20250305T100000
DTSTAMP:20260423T141547
CREATED:20241118T202741Z
LAST-MODIFIED:20260420T165033Z
UID:10032696-1741158000-1741168800@fvsc.com
SUMMARY:Club Practice 7am-10am
DESCRIPTION:Private Practice for Club skaters only.
URL:https://fvsc.com/event/club-practice-7am-10am-2-2-2/2025-03-05/
CATEGORIES:Club Events
END:VEVENT
BEGIN:VEVENT
DTSTART;TZID=America/Los_Angeles:20250305T130000
DTEND;TZID=America/Los_Angeles:20250305T160000
DTSTAMP:20260423T141547
CREATED:20241112T215145Z
LAST-MODIFIED:20260421T211007Z
UID:10024984-1741179600-1741190400@fvsc.com
SUMMARY:Club Practice 1pm-4pm
DESCRIPTION:
URL:https://fvsc.com/event/club-practice-1pm-4pm/2025-03-05/
CATEGORIES:Club Events
END:VEVENT
BEGIN:VEVENT
DTSTART;TZID=America/Los_Angeles:20250306T070000
DTEND;TZID=America/Los_Angeles:20250306T160000
DTSTAMP:20260423T141547
CREATED:20240816T165913Z
LAST-MODIFIED:20260422T194613Z
UID:10024971-1741244400-1741276800@fvsc.com
SUMMARY:Club Practice 7am-4pm
DESCRIPTION:Private Practice for Club Skaters only
URL:https://fvsc.com/event/club-practice-700pm-400pm/2025-03-06/
CATEGORIES:Club Events
END:VEVENT
BEGIN:VEVENT
DTSTART;TZID=America/Los_Angeles:20250307T070000
DTEND;TZID=America/Los_Angeles:20250307T100000
DTSTAMP:20260423T141547
CREATED:20241118T202741Z
LAST-MODIFIED:20260420T165033Z
UID:10006362-1741330800-1741341600@fvsc.com
SUMMARY:Club Practice 7am-10am
DESCRIPTION:Private Practice for Club skaters only.
URL:https://fvsc.com/event/club-practice-7am-10am-2-2-2/2025-03-07/
CATEGORIES:Club Events
END:VEVENT
BEGIN:VEVENT
DTSTART;TZID=America/Los_Angeles:20250307T120000
DTEND;TZID=America/Los_Angeles:20250307T153000
DTSTAMP:20260423T141547
CREATED:20240816T165237Z
LAST-MODIFIED:20260410T182814Z
UID:10024675-1741348800-1741361400@fvsc.com
SUMMARY:Club Practice 12pm-3:30pm
DESCRIPTION:Private Practice for Club Skaters only
URL:https://fvsc.com/event/club-practice-1200pm-330pm/2025-03-07/
CATEGORIES:Club Events
END:VEVENT
BEGIN:VEVENT
DTSTART;TZID=America/Los_Angeles:20250308T170000
DTEND;TZID=America/Los_Angeles:20250308T180000
DTSTAMP:20260423T141547
CREATED:20241104T172551Z
LAST-MODIFIED:20260402T204401Z
UID:10018785-1741453200-1741456800@fvsc.com
SUMMARY:Club Practice 5pm-6pm
DESCRIPTION:Private Practice for Club skaters only.
URL:https://fvsc.com/event/club-practice-5pm-6pm/2025-03-08/
CATEGORIES:Club Events
END:VEVENT
BEGIN:VEVENT
DTSTART;TZID=America/Los_Angeles:20250310T070000
DTEND;TZID=America/Los_Angeles:20250310T100000
DTSTAMP:20260423T141547
CREATED:20241118T202741Z
LAST-MODIFIED:20260420T165033Z
UID:10032461-1741590000-1741600800@fvsc.com
SUMMARY:Club Practice 7am-10am
DESCRIPTION:Private Practice for Club skaters only.
URL:https://fvsc.com/event/club-practice-7am-10am-2-2-2/2025-03-10/
CATEGORIES:Club Events
END:VEVENT
BEGIN:VEVENT
DTSTART;TZID=America/Los_Angeles:20250310T070000
DTEND;TZID=America/Los_Angeles:20250310T160000
DTSTAMP:20260423T141547
CREATED:20240816T165913Z
LAST-MODIFIED:20260422T194613Z
UID:10024972-1741590000-1741622400@fvsc.com
SUMMARY:Club Practice 7am-4pm
DESCRIPTION:Private Practice for Club Skaters only
URL:https://fvsc.com/event/club-practice-700pm-400pm/2025-03-10/
CATEGORIES:Club Events
END:VEVENT
BEGIN:VEVENT
DTSTART;TZID=America/Los_Angeles:20250311T070000
DTEND;TZID=America/Los_Angeles:20250311T100000
DTSTAMP:20260423T141547
CREATED:20241118T202741Z
LAST-MODIFIED:20260420T165033Z
UID:10020385-1741676400-1741687200@fvsc.com
SUMMARY:Club Practice 7am-10am
DESCRIPTION:Private Practice for Club skaters only.
URL:https://fvsc.com/event/club-practice-7am-10am-2-2-2/2025-03-11/
CATEGORIES:Club Events
END:VEVENT
BEGIN:VEVENT
DTSTART;TZID=America/Los_Angeles:20250311T200000
DTEND;TZID=America/Los_Angeles:20250311T230000
DTSTAMP:20260423T141547
CREATED:20240625T005524Z
LAST-MODIFIED:20250501T215538Z
UID:10007885-1741723200-1741734000@fvsc.com
SUMMARY:Club Practice 8pm-11pm
DESCRIPTION:Private Practice for Club skaters only.
URL:https://fvsc.com/event/club-practice-830pm-11pm-2-2-2/2025-03-11/
CATEGORIES:Club Events
END:VEVENT
BEGIN:VEVENT
DTSTART;TZID=America/Los_Angeles:20250312T070000
DTEND;TZID=America/Los_Angeles:20250312T100000
DTSTAMP:20260423T141547
CREATED:20241118T202741Z
LAST-MODIFIED:20260420T165033Z
UID:10032697-1741762800-1741773600@fvsc.com
SUMMARY:Club Practice 7am-10am
DESCRIPTION:Private Practice for Club skaters only.
URL:https://fvsc.com/event/club-practice-7am-10am-2-2-2/2025-03-12/
CATEGORIES:Club Events
END:VEVENT
BEGIN:VEVENT
DTSTART;TZID=America/Los_Angeles:20250312T130000
DTEND;TZID=America/Los_Angeles:20250312T180000
DTSTAMP:20260423T141547
CREATED:20250227T204739Z
LAST-MODIFIED:20260415T193144Z
UID:10025321-1741784400-1741802400@fvsc.com
SUMMARY:Club Practice 1pm-6pm
DESCRIPTION:
URL:https://fvsc.com/event/club-practice-1pm-6pm/2025-03-12/
CATEGORIES:Club Events
END:VEVENT
END:VCALENDAR