BEGIN:VCALENDAR
VERSION:2.0
PRODID:-//Fountain Valley Skating Center - ECPv6.15.12.2//NONSGML v1.0//EN
CALSCALE:GREGORIAN
METHOD:PUBLISH
X-WR-CALNAME:Fountain Valley Skating Center
X-ORIGINAL-URL:https://fvsc.com
X-WR-CALDESC:Events for Fountain Valley Skating Center
REFRESH-INTERVAL;VALUE=DURATION:PT1H
X-Robots-Tag:noindex
X-PUBLISHED-TTL:PT1H
BEGIN:VTIMEZONE
TZID:America/Los_Angeles
BEGIN:DAYLIGHT
TZOFFSETFROM:-0800
TZOFFSETTO:-0700
TZNAME:PDT
DTSTART:20250309T100000
END:DAYLIGHT
BEGIN:STANDARD
TZOFFSETFROM:-0700
TZOFFSETTO:-0800
TZNAME:PST
DTSTART:20251102T090000
END:STANDARD
BEGIN:DAYLIGHT
TZOFFSETFROM:-0800
TZOFFSETTO:-0700
TZNAME:PDT
DTSTART:20260308T100000
END:DAYLIGHT
BEGIN:STANDARD
TZOFFSETFROM:-0700
TZOFFSETTO:-0800
TZNAME:PST
DTSTART:20261101T090000
END:STANDARD
BEGIN:DAYLIGHT
TZOFFSETFROM:-0800
TZOFFSETTO:-0700
TZNAME:PDT
DTSTART:20270314T100000
END:DAYLIGHT
BEGIN:STANDARD
TZOFFSETFROM:-0700
TZOFFSETTO:-0800
TZNAME:PST
DTSTART:20271107T090000
END:STANDARD
END:VTIMEZONE
BEGIN:VEVENT
DTSTART;TZID=America/Los_Angeles:20260505T200000
DTEND;TZID=America/Los_Angeles:20260505T230000
DTSTAMP:20260425T180459
CREATED:20250721T163605Z
LAST-MODIFIED:20250721T163606Z
UID:10007945-1778011200-1778022000@fvsc.com
SUMMARY:Club Practice 8pm-11pm
DESCRIPTION:Private Practice for Club skaters only.
URL:https://fvsc.com/event/club-practice-830pm-11pm-2-2-2-2-2/2026-05-05/
CATEGORIES:Club Events
END:VEVENT
BEGIN:VEVENT
DTSTART;TZID=America/Los_Angeles:20260506T070000
DTEND;TZID=America/Los_Angeles:20260506T100000
DTSTAMP:20260425T180459
CREATED:20260104T220400Z
LAST-MODIFIED:20260421T210705Z
UID:10038576-1778050800-1778061600@fvsc.com
SUMMARY:Club Practice 7am-10am
DESCRIPTION:Private Practice for Club skaters only.
URL:https://fvsc.com/event/club-practice-7am-10am-2-2-2-2/2026-05-06/
CATEGORIES:Club Events
END:VEVENT
BEGIN:VEVENT
DTSTART;TZID=America/Los_Angeles:20260506T130000
DTEND;TZID=America/Los_Angeles:20260506T140000
DTSTAMP:20260425T180459
CREATED:20241001T160733Z
LAST-MODIFIED:20260410T181953Z
UID:10037379-1778072400-1778076000@fvsc.com
SUMMARY:Club Practice 1pm-2pm
DESCRIPTION:
URL:https://fvsc.com/event/club-practice-100pm-200pm/2026-05-06/
CATEGORIES:Club Events
END:VEVENT
BEGIN:VEVENT
DTSTART;TZID=America/Los_Angeles:20260507T070000
DTEND;TZID=America/Los_Angeles:20260507T160000
DTSTAMP:20260425T180459
CREATED:20260420T164330Z
LAST-MODIFIED:20260422T204641Z
UID:10038699-1778137200-1778169600@fvsc.com
SUMMARY:Club Practice 7am-4pm
DESCRIPTION:Private Practice for Club Skaters only
URL:https://fvsc.com/event/club-practice-700pm-400pm-2/2026-05-07/
CATEGORIES:Club Events
END:VEVENT
BEGIN:VEVENT
DTSTART;TZID=America/Los_Angeles:20260508T070000
DTEND;TZID=America/Los_Angeles:20260508T100000
DTSTAMP:20260425T180459
CREATED:20260104T220400Z
LAST-MODIFIED:20260421T210705Z
UID:10038577-1778223600-1778234400@fvsc.com
SUMMARY:Club Practice 7am-10am
DESCRIPTION:Private Practice for Club skaters only.
URL:https://fvsc.com/event/club-practice-7am-10am-2-2-2-2/2026-05-08/
CATEGORIES:Club Events
END:VEVENT
BEGIN:VEVENT
DTSTART;TZID=America/Los_Angeles:20260508T140000
DTEND;TZID=America/Los_Angeles:20260508T153000
DTSTAMP:20260425T180459
CREATED:20260410T183100Z
LAST-MODIFIED:20260410T183109Z
UID:10037385-1778248800-1778254200@fvsc.com
SUMMARY:Club Practice
DESCRIPTION:
URL:https://fvsc.com/event/club-practice-3/
CATEGORIES:Club Events
END:VEVENT
BEGIN:VEVENT
DTSTART;TZID=America/Los_Angeles:20260509T170000
DTEND;TZID=America/Los_Angeles:20260509T180000
DTSTAMP:20260425T180459
CREATED:20241104T172551Z
LAST-MODIFIED:20260402T204401Z
UID:10018846-1778346000-1778349600@fvsc.com
SUMMARY:Club Practice 5pm-6pm
DESCRIPTION:Private Practice for Club skaters only.
URL:https://fvsc.com/event/club-practice-5pm-6pm/2026-05-09/
CATEGORIES:Club Events
END:VEVENT
BEGIN:VEVENT
DTSTART;TZID=America/Los_Angeles:20260510T060000
DTEND;TZID=America/Los_Angeles:20260510T193000
DTSTAMP:20260425T180459
CREATED:20260410T192737Z
LAST-MODIFIED:20260410T192737Z
UID:10037520-1778392800-1778441400@fvsc.com
SUMMARY:Mother's Day Contest
DESCRIPTION:
URL:https://fvsc.com/event/mothers-day-contest/
CATEGORIES:Club Events
END:VEVENT
BEGIN:VEVENT
DTSTART;TZID=America/Los_Angeles:20260511T070000
DTEND;TZID=America/Los_Angeles:20260511T160000
DTSTAMP:20260425T180459
CREATED:20260420T164330Z
LAST-MODIFIED:20260422T204641Z
UID:10038589-1778482800-1778515200@fvsc.com
SUMMARY:Club Practice 7am-4pm
DESCRIPTION:Private Practice for Club Skaters only
URL:https://fvsc.com/event/club-practice-700pm-400pm-2/2026-05-11/
CATEGORIES:Club Events
END:VEVENT
BEGIN:VEVENT
DTSTART;TZID=America/Los_Angeles:20260511T180000
DTEND;TZID=America/Los_Angeles:20260511T190000
DTSTAMP:20260425T180459
CREATED:20240815T191906Z
LAST-MODIFIED:20260410T184713Z
UID:10037394-1778522400-1778526000@fvsc.com
SUMMARY:Club Practice 6pm-7pm
DESCRIPTION:Private Practice for Club Skaters only
URL:https://fvsc.com/event/club-practice-6pm-7pm/2026-05-11/
CATEGORIES:Club Events
END:VEVENT
BEGIN:VEVENT
DTSTART;TZID=America/Los_Angeles:20260512T070000
DTEND;TZID=America/Los_Angeles:20260512T100000
DTSTAMP:20260425T180459
CREATED:20260104T220400Z
LAST-MODIFIED:20260421T210705Z
UID:10038578-1778569200-1778580000@fvsc.com
SUMMARY:Club Practice 7am-10am
DESCRIPTION:Private Practice for Club skaters only.
URL:https://fvsc.com/event/club-practice-7am-10am-2-2-2-2/2026-05-12/
CATEGORIES:Club Events
END:VEVENT
BEGIN:VEVENT
DTSTART;TZID=America/Los_Angeles:20260512T200000
DTEND;TZID=America/Los_Angeles:20260512T230000
DTSTAMP:20260425T180459
CREATED:20250721T163605Z
LAST-MODIFIED:20250721T163606Z
UID:10007946-1778616000-1778626800@fvsc.com
SUMMARY:Club Practice 8pm-11pm
DESCRIPTION:Private Practice for Club skaters only.
URL:https://fvsc.com/event/club-practice-830pm-11pm-2-2-2-2-2/2026-05-12/
CATEGORIES:Club Events
END:VEVENT
BEGIN:VEVENT
DTSTART;TZID=America/Los_Angeles:20260513T070000
DTEND;TZID=America/Los_Angeles:20260513T100000
DTSTAMP:20260425T180459
CREATED:20260104T220400Z
LAST-MODIFIED:20260421T210705Z
UID:10038579-1778655600-1778666400@fvsc.com
SUMMARY:Club Practice 7am-10am
DESCRIPTION:Private Practice for Club skaters only.
URL:https://fvsc.com/event/club-practice-7am-10am-2-2-2-2/2026-05-13/
CATEGORIES:Club Events
END:VEVENT
BEGIN:VEVENT
DTSTART;TZID=America/Los_Angeles:20260513T130000
DTEND;TZID=America/Los_Angeles:20260513T160000
DTSTAMP:20260425T180459
CREATED:20241112T215145Z
LAST-MODIFIED:20260421T211007Z
UID:10037396-1778677200-1778688000@fvsc.com
SUMMARY:Club Practice 1pm-4pm
DESCRIPTION:
URL:https://fvsc.com/event/club-practice-1pm-4pm/2026-05-13/
CATEGORIES:Club Events
END:VEVENT
BEGIN:VEVENT
DTSTART;TZID=America/Los_Angeles:20260514T070000
DTEND;TZID=America/Los_Angeles:20260514T110000
DTSTAMP:20260425T180459
CREATED:20240213T223430Z
LAST-MODIFIED:20260410T185456Z
UID:10037399-1778742000-1778756400@fvsc.com
SUMMARY:Club Practice 7am-11am
DESCRIPTION:
URL:https://fvsc.com/event/club-practice-7am-11am/2026-05-14/
CATEGORIES:Club Events
END:VEVENT
BEGIN:VEVENT
DTSTART;TZID=America/Los_Angeles:20260514T140000
DTEND;TZID=America/Los_Angeles:20260514T160000
DTSTAMP:20260425T180459
CREATED:20251110T202929Z
LAST-MODIFIED:20260410T185610Z
UID:10037400-1778767200-1778774400@fvsc.com
SUMMARY:Club Practice 2pm-4pm
DESCRIPTION:
URL:https://fvsc.com/event/club-practice-2pm-4pm-3/2026-05-14/
CATEGORIES:Club Events
END:VEVENT
BEGIN:VEVENT
DTSTART;TZID=America/Los_Angeles:20260515T070000
DTEND;TZID=America/Los_Angeles:20260515T100000
DTSTAMP:20260425T180459
CREATED:20260104T220400Z
LAST-MODIFIED:20260421T210705Z
UID:10038580-1778828400-1778839200@fvsc.com
SUMMARY:Club Practice 7am-10am
DESCRIPTION:Private Practice for Club skaters only.
URL:https://fvsc.com/event/club-practice-7am-10am-2-2-2-2/2026-05-15/
CATEGORIES:Club Events
END:VEVENT
BEGIN:VEVENT
DTSTART;TZID=America/Los_Angeles:20260515T120000
DTEND;TZID=America/Los_Angeles:20260515T153000
DTSTAMP:20260425T180459
CREATED:20251007T201224Z
LAST-MODIFIED:20260410T182655Z
UID:10024737-1778846400-1778859000@fvsc.com
SUMMARY:Club Practice 12pm-3:30pm
DESCRIPTION:Private Practice for Club Skaters only
URL:https://fvsc.com/event/club-practice-1200pm-330pm-2/2026-05-15/
CATEGORIES:Club Events
END:VEVENT
BEGIN:VEVENT
DTSTART;TZID=America/Los_Angeles:20260516T170000
DTEND;TZID=America/Los_Angeles:20260516T180000
DTSTAMP:20260425T180459
CREATED:20241104T172551Z
LAST-MODIFIED:20260402T204401Z
UID:10018847-1778950800-1778954400@fvsc.com
SUMMARY:Club Practice 5pm-6pm
DESCRIPTION:Private Practice for Club skaters only.
URL:https://fvsc.com/event/club-practice-5pm-6pm/2026-05-16/
CATEGORIES:Club Events
END:VEVENT
BEGIN:VEVENT
DTSTART;TZID=America/Los_Angeles:20260517T070000
DTEND;TZID=America/Los_Angeles:20260517T104500
DTSTAMP:20260425T180459
CREATED:20250412T172400Z
LAST-MODIFIED:20260410T183711Z
UID:10037114-1779001200-1779014700@fvsc.com
SUMMARY:Club Practice 7am-10:45am
DESCRIPTION:Private Practice for Club skaters only.
URL:https://fvsc.com/event/club-practice-7am-11am-2-2-2/2026-05-17/
CATEGORIES:Club Events
END:VEVENT
BEGIN:VEVENT
DTSTART;TZID=America/Los_Angeles:20260518T070000
DTEND;TZID=America/Los_Angeles:20260518T100000
DTSTAMP:20260425T180459
CREATED:20241118T202741Z
LAST-MODIFIED:20260420T165033Z
UID:10037414-1779087600-1779098400@fvsc.com
SUMMARY:Club Practice 7am-10am
DESCRIPTION:Private Practice for Club skaters only.
URL:https://fvsc.com/event/club-practice-7am-10am-2-2-2/2026-05-18/
CATEGORIES:Club Events
END:VEVENT
BEGIN:VEVENT
DTSTART;TZID=America/Los_Angeles:20260518T070000
DTEND;TZID=America/Los_Angeles:20260518T100000
DTSTAMP:20260425T180459
CREATED:20260104T220400Z
LAST-MODIFIED:20260421T210705Z
UID:10038581-1779087600-1779098400@fvsc.com
SUMMARY:Club Practice 7am-10am
DESCRIPTION:Private Practice for Club skaters only.
URL:https://fvsc.com/event/club-practice-7am-10am-2-2-2-2/2026-05-18/
CATEGORIES:Club Events
END:VEVENT
BEGIN:VEVENT
DTSTART;TZID=America/Los_Angeles:20260518T120000
DTEND;TZID=America/Los_Angeles:20260518T160000
DTSTAMP:20260425T180459
CREATED:20260421T172346Z
LAST-MODIFIED:20260421T172739Z
UID:10037415-1779105600-1779120000@fvsc.com
SUMMARY:Club Practice 12pm-4pm
DESCRIPTION:
URL:https://fvsc.com/event/club-practice-12pm-4pm-2/2026-05-18/
CATEGORIES:Club Events
END:VEVENT
BEGIN:VEVENT
DTSTART;TZID=America/Los_Angeles:20260519T070000
DTEND;TZID=America/Los_Angeles:20260519T100000
DTSTAMP:20260425T180459
CREATED:20260104T220400Z
LAST-MODIFIED:20260421T210705Z
UID:10038582-1779174000-1779184800@fvsc.com
SUMMARY:Club Practice 7am-10am
DESCRIPTION:Private Practice for Club skaters only.
URL:https://fvsc.com/event/club-practice-7am-10am-2-2-2-2/2026-05-19/
CATEGORIES:Club Events
END:VEVENT
BEGIN:VEVENT
DTSTART;TZID=America/Los_Angeles:20260519T200000
DTEND;TZID=America/Los_Angeles:20260519T230000
DTSTAMP:20260425T180459
CREATED:20250721T163605Z
LAST-MODIFIED:20250721T163606Z
UID:10007947-1779220800-1779231600@fvsc.com
SUMMARY:Club Practice 8pm-11pm
DESCRIPTION:Private Practice for Club skaters only.
URL:https://fvsc.com/event/club-practice-830pm-11pm-2-2-2-2-2/2026-05-19/
CATEGORIES:Club Events
END:VEVENT
BEGIN:VEVENT
DTSTART;TZID=America/Los_Angeles:20260520T070000
DTEND;TZID=America/Los_Angeles:20260520T100000
DTSTAMP:20260425T180459
CREATED:20260104T220400Z
LAST-MODIFIED:20260421T210705Z
UID:10038583-1779260400-1779271200@fvsc.com
SUMMARY:Club Practice 7am-10am
DESCRIPTION:Private Practice for Club skaters only.
URL:https://fvsc.com/event/club-practice-7am-10am-2-2-2-2/2026-05-20/
CATEGORIES:Club Events
END:VEVENT
BEGIN:VEVENT
DTSTART;TZID=America/Los_Angeles:20260520T130000
DTEND;TZID=America/Los_Angeles:20260520T180000
DTSTAMP:20260425T180459
CREATED:20250227T204739Z
LAST-MODIFIED:20260415T193144Z
UID:10038051-1779282000-1779300000@fvsc.com
SUMMARY:Club Practice 1pm-6pm
DESCRIPTION:
URL:https://fvsc.com/event/club-practice-1pm-6pm/2026-05-20/
CATEGORIES:Club Events
END:VEVENT
BEGIN:VEVENT
DTSTART;TZID=America/Los_Angeles:20260521T070000
DTEND;TZID=America/Los_Angeles:20260521T180000
DTSTAMP:20260425T180459
CREATED:20260410T190802Z
LAST-MODIFIED:20260422T194857Z
UID:10038698-1779346800-1779386400@fvsc.com
SUMMARY:Club Practice 7am-6pm
DESCRIPTION:
URL:https://fvsc.com/event/club-practice-7am-6pm/2026-05-21/
CATEGORIES:Club Events
END:VEVENT
BEGIN:VEVENT
DTSTART;TZID=America/Los_Angeles:20260522T070000
DTEND;TZID=America/Los_Angeles:20260522T100000
DTSTAMP:20260425T180459
CREATED:20260104T220400Z
LAST-MODIFIED:20260421T210705Z
UID:10038584-1779433200-1779444000@fvsc.com
SUMMARY:Club Practice 7am-10am
DESCRIPTION:Private Practice for Club skaters only.
URL:https://fvsc.com/event/club-practice-7am-10am-2-2-2-2/2026-05-22/
CATEGORIES:Club Events
END:VEVENT
BEGIN:VEVENT
DTSTART;TZID=America/Los_Angeles:20260522T120000
DTEND;TZID=America/Los_Angeles:20260522T153000
DTSTAMP:20260425T180459
CREATED:20251007T201224Z
LAST-MODIFIED:20260410T182655Z
UID:10024738-1779451200-1779463800@fvsc.com
SUMMARY:Club Practice 12pm-3:30pm
DESCRIPTION:Private Practice for Club Skaters only
URL:https://fvsc.com/event/club-practice-1200pm-330pm-2/2026-05-22/
CATEGORIES:Club Events
END:VEVENT
END:VCALENDAR