BEGIN:VCALENDAR
VERSION:2.0
PRODID:-//Fountain Valley Skating Center - ECPv6.15.12.2//NONSGML v1.0//EN
CALSCALE:GREGORIAN
METHOD:PUBLISH
X-ORIGINAL-URL:https://fvsc.com
X-WR-CALDESC:Events for Fountain Valley Skating Center
REFRESH-INTERVAL;VALUE=DURATION:PT1H
X-Robots-Tag:noindex
X-PUBLISHED-TTL:PT1H
BEGIN:VTIMEZONE
TZID:America/Los_Angeles
BEGIN:DAYLIGHT
TZOFFSETFROM:-0800
TZOFFSETTO:-0700
TZNAME:PDT
DTSTART:20260308T100000
END:DAYLIGHT
BEGIN:STANDARD
TZOFFSETFROM:-0700
TZOFFSETTO:-0800
TZNAME:PST
DTSTART:20261101T090000
END:STANDARD
BEGIN:DAYLIGHT
TZOFFSETFROM:-0800
TZOFFSETTO:-0700
TZNAME:PDT
DTSTART:20270314T100000
END:DAYLIGHT
BEGIN:STANDARD
TZOFFSETFROM:-0700
TZOFFSETTO:-0800
TZNAME:PST
DTSTART:20271107T090000
END:STANDARD
BEGIN:DAYLIGHT
TZOFFSETFROM:-0800
TZOFFSETTO:-0700
TZNAME:PDT
DTSTART:20280312T100000
END:DAYLIGHT
BEGIN:STANDARD
TZOFFSETFROM:-0700
TZOFFSETTO:-0800
TZNAME:PST
DTSTART:20281105T090000
END:STANDARD
BEGIN:DAYLIGHT
TZOFFSETFROM:-0800
TZOFFSETTO:-0700
TZNAME:PDT
DTSTART:20290311T100000
END:DAYLIGHT
BEGIN:STANDARD
TZOFFSETFROM:-0700
TZOFFSETTO:-0800
TZNAME:PST
DTSTART:20291104T090000
END:STANDARD
END:VTIMEZONE
BEGIN:VEVENT
DTSTART;TZID=America/Los_Angeles:20271123T200000
DTEND;TZID=America/Los_Angeles:20271123T230000
DTSTAMP:20260424T090341
CREATED:20250721T163605Z
LAST-MODIFIED:20250721T163606Z
UID:10008026-1827000000-1827010800@fvsc.com
SUMMARY:Club Practice 8pm-11pm
DESCRIPTION:Private Practice for Club skaters only.
URL:https://fvsc.com/event/club-practice-830pm-11pm-2-2-2-2-2/2027-11-23/
CATEGORIES:Club Events
END:VEVENT
BEGIN:VEVENT
DTSTART;TZID=America/Los_Angeles:20271126T120000
DTEND;TZID=America/Los_Angeles:20271126T153000
DTSTAMP:20260424T090341
CREATED:20251007T201224Z
LAST-MODIFIED:20260410T182655Z
UID:10024817-1827230400-1827243000@fvsc.com
SUMMARY:Club Practice 12pm-3:30pm
DESCRIPTION:Private Practice for Club Skaters only
URL:https://fvsc.com/event/club-practice-1200pm-330pm-2/2027-11-26/
CATEGORIES:Club Events
END:VEVENT
BEGIN:VEVENT
DTSTART;TZID=America/Los_Angeles:20271127T170000
DTEND;TZID=America/Los_Angeles:20271127T180000
DTSTAMP:20260424T090341
CREATED:20241104T172551Z
LAST-MODIFIED:20260402T204401Z
UID:10018927-1827334800-1827338400@fvsc.com
SUMMARY:Club Practice 5pm-6pm
DESCRIPTION:Private Practice for Club skaters only.
URL:https://fvsc.com/event/club-practice-5pm-6pm/2027-11-27/
CATEGORIES:Club Events
END:VEVENT
BEGIN:VEVENT
DTSTART;TZID=America/Los_Angeles:20271128T070000
DTEND;TZID=America/Los_Angeles:20271128T104500
DTSTAMP:20260424T090341
CREATED:20250412T172400Z
LAST-MODIFIED:20260410T183711Z
UID:10037194-1827385200-1827398700@fvsc.com
SUMMARY:Club Practice 7am-10:45am
DESCRIPTION:Private Practice for Club skaters only.
URL:https://fvsc.com/event/club-practice-7am-11am-2-2-2/2027-11-28/
CATEGORIES:Club Events
END:VEVENT
BEGIN:VEVENT
DTSTART;TZID=America/Los_Angeles:20271129T070000
DTEND;TZID=America/Los_Angeles:20271129T160000
DTSTAMP:20260424T090341
CREATED:20260420T164330Z
LAST-MODIFIED:20260422T204641Z
UID:10038670-1827471600-1827504000@fvsc.com
SUMMARY:Club Practice 7am-4pm
DESCRIPTION:Private Practice for Club Skaters only
URL:https://fvsc.com/event/club-practice-700pm-400pm-2/2027-11-29/
CATEGORIES:Club Events
END:VEVENT
BEGIN:VEVENT
DTSTART;TZID=America/Los_Angeles:20271130T200000
DTEND;TZID=America/Los_Angeles:20271130T230000
DTSTAMP:20260424T090341
CREATED:20250721T163605Z
LAST-MODIFIED:20250721T163606Z
UID:10008027-1827604800-1827615600@fvsc.com
SUMMARY:Club Practice 8pm-11pm
DESCRIPTION:Private Practice for Club skaters only.
URL:https://fvsc.com/event/club-practice-830pm-11pm-2-2-2-2-2/2027-11-30/
CATEGORIES:Club Events
END:VEVENT
BEGIN:VEVENT
DTSTART;TZID=America/Los_Angeles:20271203T120000
DTEND;TZID=America/Los_Angeles:20271203T153000
DTSTAMP:20260424T090341
CREATED:20251007T201224Z
LAST-MODIFIED:20260410T182655Z
UID:10024818-1827835200-1827847800@fvsc.com
SUMMARY:Club Practice 12pm-3:30pm
DESCRIPTION:Private Practice for Club Skaters only
URL:https://fvsc.com/event/club-practice-1200pm-330pm-2/2027-12-03/
CATEGORIES:Club Events
END:VEVENT
BEGIN:VEVENT
DTSTART;TZID=America/Los_Angeles:20271204T170000
DTEND;TZID=America/Los_Angeles:20271204T180000
DTSTAMP:20260424T090341
CREATED:20241104T172551Z
LAST-MODIFIED:20260402T204401Z
UID:10018928-1827939600-1827943200@fvsc.com
SUMMARY:Club Practice 5pm-6pm
DESCRIPTION:Private Practice for Club skaters only.
URL:https://fvsc.com/event/club-practice-5pm-6pm/2027-12-04/
CATEGORIES:Club Events
END:VEVENT
BEGIN:VEVENT
DTSTART;TZID=America/Los_Angeles:20271205T070000
DTEND;TZID=America/Los_Angeles:20271205T104500
DTSTAMP:20260424T090341
CREATED:20250412T172400Z
LAST-MODIFIED:20260410T183711Z
UID:10037195-1827990000-1828003500@fvsc.com
SUMMARY:Club Practice 7am-10:45am
DESCRIPTION:Private Practice for Club skaters only.
URL:https://fvsc.com/event/club-practice-7am-11am-2-2-2/2027-12-05/
CATEGORIES:Club Events
END:VEVENT
BEGIN:VEVENT
DTSTART;TZID=America/Los_Angeles:20271206T070000
DTEND;TZID=America/Los_Angeles:20271206T160000
DTSTAMP:20260424T090341
CREATED:20260420T164330Z
LAST-MODIFIED:20260422T204641Z
UID:10038671-1828076400-1828108800@fvsc.com
SUMMARY:Club Practice 7am-4pm
DESCRIPTION:Private Practice for Club Skaters only
URL:https://fvsc.com/event/club-practice-700pm-400pm-2/2027-12-06/
CATEGORIES:Club Events
END:VEVENT
BEGIN:VEVENT
DTSTART;TZID=America/Los_Angeles:20271207T200000
DTEND;TZID=America/Los_Angeles:20271207T230000
DTSTAMP:20260424T090341
CREATED:20250721T163605Z
LAST-MODIFIED:20250721T163606Z
UID:10008028-1828209600-1828220400@fvsc.com
SUMMARY:Club Practice 8pm-11pm
DESCRIPTION:Private Practice for Club skaters only.
URL:https://fvsc.com/event/club-practice-830pm-11pm-2-2-2-2-2/2027-12-07/
CATEGORIES:Club Events
END:VEVENT
BEGIN:VEVENT
DTSTART;TZID=America/Los_Angeles:20271210T120000
DTEND;TZID=America/Los_Angeles:20271210T153000
DTSTAMP:20260424T090341
CREATED:20251007T201224Z
LAST-MODIFIED:20260410T182655Z
UID:10024819-1828440000-1828452600@fvsc.com
SUMMARY:Club Practice 12pm-3:30pm
DESCRIPTION:Private Practice for Club Skaters only
URL:https://fvsc.com/event/club-practice-1200pm-330pm-2/2027-12-10/
CATEGORIES:Club Events
END:VEVENT
BEGIN:VEVENT
DTSTART;TZID=America/Los_Angeles:20271211T170000
DTEND;TZID=America/Los_Angeles:20271211T180000
DTSTAMP:20260424T090341
CREATED:20241104T172551Z
LAST-MODIFIED:20260402T204401Z
UID:10018929-1828544400-1828548000@fvsc.com
SUMMARY:Club Practice 5pm-6pm
DESCRIPTION:Private Practice for Club skaters only.
URL:https://fvsc.com/event/club-practice-5pm-6pm/2027-12-11/
CATEGORIES:Club Events
END:VEVENT
BEGIN:VEVENT
DTSTART;TZID=America/Los_Angeles:20271212T070000
DTEND;TZID=America/Los_Angeles:20271212T104500
DTSTAMP:20260424T090341
CREATED:20250412T172400Z
LAST-MODIFIED:20260410T183711Z
UID:10037196-1828594800-1828608300@fvsc.com
SUMMARY:Club Practice 7am-10:45am
DESCRIPTION:Private Practice for Club skaters only.
URL:https://fvsc.com/event/club-practice-7am-11am-2-2-2/2027-12-12/
CATEGORIES:Club Events
END:VEVENT
BEGIN:VEVENT
DTSTART;TZID=America/Los_Angeles:20271213T070000
DTEND;TZID=America/Los_Angeles:20271213T160000
DTSTAMP:20260424T090341
CREATED:20260420T164330Z
LAST-MODIFIED:20260422T204641Z
UID:10038672-1828681200-1828713600@fvsc.com
SUMMARY:Club Practice 7am-4pm
DESCRIPTION:Private Practice for Club Skaters only
URL:https://fvsc.com/event/club-practice-700pm-400pm-2/2027-12-13/
CATEGORIES:Club Events
END:VEVENT
BEGIN:VEVENT
DTSTART;TZID=America/Los_Angeles:20271214T200000
DTEND;TZID=America/Los_Angeles:20271214T230000
DTSTAMP:20260424T090341
CREATED:20250721T163605Z
LAST-MODIFIED:20250721T163606Z
UID:10008029-1828814400-1828825200@fvsc.com
SUMMARY:Club Practice 8pm-11pm
DESCRIPTION:Private Practice for Club skaters only.
URL:https://fvsc.com/event/club-practice-830pm-11pm-2-2-2-2-2/2027-12-14/
CATEGORIES:Club Events
END:VEVENT
BEGIN:VEVENT
DTSTART;TZID=America/Los_Angeles:20271217T120000
DTEND;TZID=America/Los_Angeles:20271217T153000
DTSTAMP:20260424T090341
CREATED:20251007T201224Z
LAST-MODIFIED:20260410T182655Z
UID:10024820-1829044800-1829057400@fvsc.com
SUMMARY:Club Practice 12pm-3:30pm
DESCRIPTION:Private Practice for Club Skaters only
URL:https://fvsc.com/event/club-practice-1200pm-330pm-2/2027-12-17/
CATEGORIES:Club Events
END:VEVENT
BEGIN:VEVENT
DTSTART;TZID=America/Los_Angeles:20271218T170000
DTEND;TZID=America/Los_Angeles:20271218T180000
DTSTAMP:20260424T090341
CREATED:20241104T172551Z
LAST-MODIFIED:20260402T204401Z
UID:10018930-1829149200-1829152800@fvsc.com
SUMMARY:Club Practice 5pm-6pm
DESCRIPTION:Private Practice for Club skaters only.
URL:https://fvsc.com/event/club-practice-5pm-6pm/2027-12-18/
CATEGORIES:Club Events
END:VEVENT
BEGIN:VEVENT
DTSTART;TZID=America/Los_Angeles:20271219T070000
DTEND;TZID=America/Los_Angeles:20271219T104500
DTSTAMP:20260424T090341
CREATED:20250412T172400Z
LAST-MODIFIED:20260410T183711Z
UID:10037197-1829199600-1829213100@fvsc.com
SUMMARY:Club Practice 7am-10:45am
DESCRIPTION:Private Practice for Club skaters only.
URL:https://fvsc.com/event/club-practice-7am-11am-2-2-2/2027-12-19/
CATEGORIES:Club Events
END:VEVENT
BEGIN:VEVENT
DTSTART;TZID=America/Los_Angeles:20271220T070000
DTEND;TZID=America/Los_Angeles:20271220T160000
DTSTAMP:20260424T090341
CREATED:20260420T164330Z
LAST-MODIFIED:20260422T204641Z
UID:10038673-1829286000-1829318400@fvsc.com
SUMMARY:Club Practice 7am-4pm
DESCRIPTION:Private Practice for Club Skaters only
URL:https://fvsc.com/event/club-practice-700pm-400pm-2/2027-12-20/
CATEGORIES:Club Events
END:VEVENT
BEGIN:VEVENT
DTSTART;TZID=America/Los_Angeles:20271221T200000
DTEND;TZID=America/Los_Angeles:20271221T230000
DTSTAMP:20260424T090341
CREATED:20250721T163605Z
LAST-MODIFIED:20250721T163606Z
UID:10008030-1829419200-1829430000@fvsc.com
SUMMARY:Club Practice 8pm-11pm
DESCRIPTION:Private Practice for Club skaters only.
URL:https://fvsc.com/event/club-practice-830pm-11pm-2-2-2-2-2/2027-12-21/
CATEGORIES:Club Events
END:VEVENT
BEGIN:VEVENT
DTSTART;TZID=America/Los_Angeles:20271224T120000
DTEND;TZID=America/Los_Angeles:20271224T153000
DTSTAMP:20260424T090341
CREATED:20251007T201224Z
LAST-MODIFIED:20260410T182655Z
UID:10024821-1829649600-1829662200@fvsc.com
SUMMARY:Club Practice 12pm-3:30pm
DESCRIPTION:Private Practice for Club Skaters only
URL:https://fvsc.com/event/club-practice-1200pm-330pm-2/2027-12-24/
CATEGORIES:Club Events
END:VEVENT
BEGIN:VEVENT
DTSTART;TZID=America/Los_Angeles:20271225T170000
DTEND;TZID=America/Los_Angeles:20271225T180000
DTSTAMP:20260424T090341
CREATED:20241104T172551Z
LAST-MODIFIED:20260402T204401Z
UID:10018931-1829754000-1829757600@fvsc.com
SUMMARY:Club Practice 5pm-6pm
DESCRIPTION:Private Practice for Club skaters only.
URL:https://fvsc.com/event/club-practice-5pm-6pm/2027-12-25/
CATEGORIES:Club Events
END:VEVENT
BEGIN:VEVENT
DTSTART;TZID=America/Los_Angeles:20271226T070000
DTEND;TZID=America/Los_Angeles:20271226T104500
DTSTAMP:20260424T090341
CREATED:20250412T172400Z
LAST-MODIFIED:20260410T183711Z
UID:10037198-1829804400-1829817900@fvsc.com
SUMMARY:Club Practice 7am-10:45am
DESCRIPTION:Private Practice for Club skaters only.
URL:https://fvsc.com/event/club-practice-7am-11am-2-2-2/2027-12-26/
CATEGORIES:Club Events
END:VEVENT
BEGIN:VEVENT
DTSTART;TZID=America/Los_Angeles:20271227T070000
DTEND;TZID=America/Los_Angeles:20271227T160000
DTSTAMP:20260424T090341
CREATED:20260420T164330Z
LAST-MODIFIED:20260422T204641Z
UID:10038674-1829890800-1829923200@fvsc.com
SUMMARY:Club Practice 7am-4pm
DESCRIPTION:Private Practice for Club Skaters only
URL:https://fvsc.com/event/club-practice-700pm-400pm-2/2027-12-27/
CATEGORIES:Club Events
END:VEVENT
BEGIN:VEVENT
DTSTART;TZID=America/Los_Angeles:20271228T200000
DTEND;TZID=America/Los_Angeles:20271228T230000
DTSTAMP:20260424T090341
CREATED:20250721T163605Z
LAST-MODIFIED:20250721T163606Z
UID:10008031-1830024000-1830034800@fvsc.com
SUMMARY:Club Practice 8pm-11pm
DESCRIPTION:Private Practice for Club skaters only.
URL:https://fvsc.com/event/club-practice-830pm-11pm-2-2-2-2-2/2027-12-28/
CATEGORIES:Club Events
END:VEVENT
BEGIN:VEVENT
DTSTART;TZID=America/Los_Angeles:20271231T120000
DTEND;TZID=America/Los_Angeles:20271231T153000
DTSTAMP:20260424T090341
CREATED:20251007T201224Z
LAST-MODIFIED:20260410T182655Z
UID:10024822-1830254400-1830267000@fvsc.com
SUMMARY:Club Practice 12pm-3:30pm
DESCRIPTION:Private Practice for Club Skaters only
URL:https://fvsc.com/event/club-practice-1200pm-330pm-2/2027-12-31/
CATEGORIES:Club Events
END:VEVENT
BEGIN:VEVENT
DTSTART;TZID=America/Los_Angeles:20280101T170000
DTEND;TZID=America/Los_Angeles:20280101T180000
DTSTAMP:20260424T090341
CREATED:20241104T172551Z
LAST-MODIFIED:20260402T204401Z
UID:10018932-1830358800-1830362400@fvsc.com
SUMMARY:Club Practice 5pm-6pm
DESCRIPTION:Private Practice for Club skaters only.
URL:https://fvsc.com/event/club-practice-5pm-6pm/2028-01-01/
CATEGORIES:Club Events
END:VEVENT
BEGIN:VEVENT
DTSTART;TZID=America/Los_Angeles:20280102T070000
DTEND;TZID=America/Los_Angeles:20280102T104500
DTSTAMP:20260424T090341
CREATED:20250412T172400Z
LAST-MODIFIED:20260410T183711Z
UID:10037199-1830409200-1830422700@fvsc.com
SUMMARY:Club Practice 7am-10:45am
DESCRIPTION:Private Practice for Club skaters only.
URL:https://fvsc.com/event/club-practice-7am-11am-2-2-2/2028-01-02/
CATEGORIES:Club Events
END:VEVENT
BEGIN:VEVENT
DTSTART;TZID=America/Los_Angeles:20280103T070000
DTEND;TZID=America/Los_Angeles:20280103T160000
DTSTAMP:20260424T090341
CREATED:20260420T164330Z
LAST-MODIFIED:20260422T204641Z
UID:10038675-1830495600-1830528000@fvsc.com
SUMMARY:Club Practice 7am-4pm
DESCRIPTION:Private Practice for Club Skaters only
URL:https://fvsc.com/event/club-practice-700pm-400pm-2/2028-01-03/
CATEGORIES:Club Events
END:VEVENT
END:VCALENDAR