BEGIN:VCALENDAR
VERSION:2.0
PRODID:-//Fountain Valley Skating Center - ECPv6.15.12.2//NONSGML v1.0//EN
CALSCALE:GREGORIAN
METHOD:PUBLISH
X-ORIGINAL-URL:https://fvsc.com
X-WR-CALDESC:Events for Fountain Valley Skating Center
REFRESH-INTERVAL;VALUE=DURATION:PT1H
X-Robots-Tag:noindex
X-PUBLISHED-TTL:PT1H
BEGIN:VTIMEZONE
TZID:America/Los_Angeles
BEGIN:DAYLIGHT
TZOFFSETFROM:-0800
TZOFFSETTO:-0700
TZNAME:PDT
DTSTART:20230312T100000
END:DAYLIGHT
BEGIN:STANDARD
TZOFFSETFROM:-0700
TZOFFSETTO:-0800
TZNAME:PST
DTSTART:20231105T090000
END:STANDARD
BEGIN:DAYLIGHT
TZOFFSETFROM:-0800
TZOFFSETTO:-0700
TZNAME:PDT
DTSTART:20240310T100000
END:DAYLIGHT
BEGIN:STANDARD
TZOFFSETFROM:-0700
TZOFFSETTO:-0800
TZNAME:PST
DTSTART:20241103T090000
END:STANDARD
BEGIN:DAYLIGHT
TZOFFSETFROM:-0800
TZOFFSETTO:-0700
TZNAME:PDT
DTSTART:20250309T100000
END:DAYLIGHT
BEGIN:STANDARD
TZOFFSETFROM:-0700
TZOFFSETTO:-0800
TZNAME:PST
DTSTART:20251102T090000
END:STANDARD
END:VTIMEZONE
BEGIN:VEVENT
DTSTART;TZID=America/Los_Angeles:20240928T110000
DTEND;TZID=America/Los_Angeles:20240928T133000
DTSTAMP:20260422T230902
CREATED:20230926T014823Z
LAST-MODIFIED:20250101T185954Z
UID:10001964-1727521200-1727530200@fvsc.com
SUMMARY:Open Skating ($14)
DESCRIPTION:Join us for a roller-skating experience like no other. With a diverse playlist catering to all music tastes\, our sessions are designed to keep everyone moving and grooving. From beginners to seasoned skaters\, our rink is open to all. Elevate your weekend with a blend of thrilling games and the perfect soundtrack. \nAdmission $14 / Skate Rental $8 / Skate Mate Rental $7 / Stayover $6 \nPurchase Tickets Now: Open Skating Tickets \nNo Groupons accepted on Saturdays
URL:https://fvsc.com/event/open-skating-13-2/2024-09-28/
CATEGORIES:Open Skating
END:VEVENT
BEGIN:VEVENT
DTSTART;TZID=America/Los_Angeles:20240929T170000
DTEND;TZID=America/Los_Angeles:20240929T193000
DTSTAMP:20260422T230902
CREATED:20230926T014822Z
LAST-MODIFIED:20260410T192234Z
UID:10001690-1727629200-1727638200@fvsc.com
SUMMARY:Open Skating ($15)
DESCRIPTION:Join us for a skating experience set to the rhythm of fan favorites and today’s top hits. Our welcoming atmosphere caters to all skill levels\, making it the ideal destination for both beginners and seasoned skaters. Whether you’re here for the music\, the games\, or simply the joy of skating\, this session is for you. \nAdmission $15 / Skate Rental $8 / Skate Mate Rental $7 \nPurchase Tickets Now: Open Skating Tickets
URL:https://fvsc.com/event/open-skating-14/2024-09-29/
CATEGORIES:Open Skating
END:VEVENT
BEGIN:VEVENT
DTSTART;TZID=America/Los_Angeles:20241002T180000
DTEND;TZID=America/Los_Angeles:20241002T200000
DTSTAMP:20260422T230902
CREATED:20240104T235848Z
LAST-MODIFIED:20260312T200455Z
UID:10012371-1727892000-1727899200@fvsc.com
SUMMARY:Open Skating ($15)
DESCRIPTION:Join us from 6pm-8pm for a roller-skating experience like no other. With a diverse playlist catering to all music tastes\, our sessions are designed to keep everyone moving and grooving. From beginners to seasoned skaters\, our rink is open to all. Elevate your evening with a blend of thrilling games and the perfect soundtrack. \nAdmission $15 / Skate Rental $8 / Skate Mate Rental $7 \nPurchase Tickets Now: Open Skating Tickets
URL:https://fvsc.com/event/open-skating-14-2/2024-10-02/
CATEGORIES:Open Skating
END:VEVENT
BEGIN:VEVENT
DTSTART;TZID=America/Los_Angeles:20241003T180000
DTEND;TZID=America/Los_Angeles:20241003T200000
DTSTAMP:20260422T230902
CREATED:20240104T235848Z
LAST-MODIFIED:20260312T200455Z
UID:10012372-1727978400-1727985600@fvsc.com
SUMMARY:Open Skating ($15)
DESCRIPTION:Join us from 6pm-8pm for a roller-skating experience like no other. With a diverse playlist catering to all music tastes\, our sessions are designed to keep everyone moving and grooving. From beginners to seasoned skaters\, our rink is open to all. Elevate your evening with a blend of thrilling games and the perfect soundtrack. \nAdmission $15 / Skate Rental $8 / Skate Mate Rental $7 \nPurchase Tickets Now: Open Skating Tickets
URL:https://fvsc.com/event/open-skating-14-2/2024-10-03/
CATEGORIES:Open Skating
END:VEVENT
BEGIN:VEVENT
DTSTART;TZID=America/Los_Angeles:20241004T153000
DTEND;TZID=America/Los_Angeles:20241004T180000
DTSTAMP:20260422T230902
CREATED:20241113T171653Z
LAST-MODIFIED:20250101T184830Z
UID:10020102-1728055800-1728064800@fvsc.com
SUMMARY:Open Skating ($14)
DESCRIPTION:Join us every Friday from 3:30pm-6pm for a roller-skating experience like no other. With a diverse playlist catering to all music tastes\, our sessions are designed to keep everyone moving and grooving. From beginners to seasoned skaters\, our rink is open to all. Elevate your Friday afternoon with a blend of thrilling games and the perfect soundtrack. \nAdmission $14 / Skate Rental $8 / Skate Mate Rental $7 \nPurchase Tickets Now: Open Skating Tickets
URL:https://fvsc.com/event/open-skating-13-50/2024-10-04/
CATEGORIES:Open Skating
END:VEVENT
BEGIN:VEVENT
DTSTART;TZID=America/Los_Angeles:20241005T110000
DTEND;TZID=America/Los_Angeles:20241005T133000
DTSTAMP:20260422T230902
CREATED:20230926T014823Z
LAST-MODIFIED:20250101T185954Z
UID:10001965-1728126000-1728135000@fvsc.com
SUMMARY:Open Skating ($14)
DESCRIPTION:Join us for a roller-skating experience like no other. With a diverse playlist catering to all music tastes\, our sessions are designed to keep everyone moving and grooving. From beginners to seasoned skaters\, our rink is open to all. Elevate your weekend with a blend of thrilling games and the perfect soundtrack. \nAdmission $14 / Skate Rental $8 / Skate Mate Rental $7 / Stayover $6 \nPurchase Tickets Now: Open Skating Tickets \nNo Groupons accepted on Saturdays
URL:https://fvsc.com/event/open-skating-13-2/2024-10-05/
CATEGORIES:Open Skating
END:VEVENT
BEGIN:VEVENT
DTSTART;TZID=America/Los_Angeles:20241006T170000
DTEND;TZID=America/Los_Angeles:20241006T193000
DTSTAMP:20260422T230902
CREATED:20230926T014822Z
LAST-MODIFIED:20260410T192234Z
UID:10001691-1728234000-1728243000@fvsc.com
SUMMARY:Open Skating ($15)
DESCRIPTION:Join us for a skating experience set to the rhythm of fan favorites and today’s top hits. Our welcoming atmosphere caters to all skill levels\, making it the ideal destination for both beginners and seasoned skaters. Whether you’re here for the music\, the games\, or simply the joy of skating\, this session is for you. \nAdmission $15 / Skate Rental $8 / Skate Mate Rental $7 \nPurchase Tickets Now: Open Skating Tickets
URL:https://fvsc.com/event/open-skating-14/2024-10-06/
CATEGORIES:Open Skating
END:VEVENT
BEGIN:VEVENT
DTSTART;TZID=America/Los_Angeles:20241010T180000
DTEND;TZID=America/Los_Angeles:20241010T200000
DTSTAMP:20260422T230902
CREATED:20240104T235848Z
LAST-MODIFIED:20260312T200455Z
UID:10012375-1728583200-1728590400@fvsc.com
SUMMARY:Open Skating ($15)
DESCRIPTION:Join us from 6pm-8pm for a roller-skating experience like no other. With a diverse playlist catering to all music tastes\, our sessions are designed to keep everyone moving and grooving. From beginners to seasoned skaters\, our rink is open to all. Elevate your evening with a blend of thrilling games and the perfect soundtrack. \nAdmission $15 / Skate Rental $8 / Skate Mate Rental $7 \nPurchase Tickets Now: Open Skating Tickets
URL:https://fvsc.com/event/open-skating-14-2/2024-10-10/
CATEGORIES:Open Skating
END:VEVENT
BEGIN:VEVENT
DTSTART;TZID=America/Los_Angeles:20241011T153000
DTEND;TZID=America/Los_Angeles:20241011T180000
DTSTAMP:20260422T230902
CREATED:20241113T171653Z
LAST-MODIFIED:20250101T184830Z
UID:10020103-1728660600-1728669600@fvsc.com
SUMMARY:Open Skating ($14)
DESCRIPTION:Join us every Friday from 3:30pm-6pm for a roller-skating experience like no other. With a diverse playlist catering to all music tastes\, our sessions are designed to keep everyone moving and grooving. From beginners to seasoned skaters\, our rink is open to all. Elevate your Friday afternoon with a blend of thrilling games and the perfect soundtrack. \nAdmission $14 / Skate Rental $8 / Skate Mate Rental $7 \nPurchase Tickets Now: Open Skating Tickets
URL:https://fvsc.com/event/open-skating-13-50/2024-10-11/
CATEGORIES:Open Skating
END:VEVENT
BEGIN:VEVENT
DTSTART;TZID=America/Los_Angeles:20241012T110000
DTEND;TZID=America/Los_Angeles:20241012T133000
DTSTAMP:20260422T230902
CREATED:20230926T014823Z
LAST-MODIFIED:20250101T185954Z
UID:10001966-1728730800-1728739800@fvsc.com
SUMMARY:Open Skating ($14)
DESCRIPTION:Join us for a roller-skating experience like no other. With a diverse playlist catering to all music tastes\, our sessions are designed to keep everyone moving and grooving. From beginners to seasoned skaters\, our rink is open to all. Elevate your weekend with a blend of thrilling games and the perfect soundtrack. \nAdmission $14 / Skate Rental $8 / Skate Mate Rental $7 / Stayover $6 \nPurchase Tickets Now: Open Skating Tickets \nNo Groupons accepted on Saturdays
URL:https://fvsc.com/event/open-skating-13-2/2024-10-12/
CATEGORIES:Open Skating
END:VEVENT
BEGIN:VEVENT
DTSTART;TZID=America/Los_Angeles:20241013T170000
DTEND;TZID=America/Los_Angeles:20241013T193000
DTSTAMP:20260422T230902
CREATED:20230926T014822Z
LAST-MODIFIED:20260410T192234Z
UID:10001692-1728838800-1728847800@fvsc.com
SUMMARY:Open Skating ($15)
DESCRIPTION:Join us for a skating experience set to the rhythm of fan favorites and today’s top hits. Our welcoming atmosphere caters to all skill levels\, making it the ideal destination for both beginners and seasoned skaters. Whether you’re here for the music\, the games\, or simply the joy of skating\, this session is for you. \nAdmission $15 / Skate Rental $8 / Skate Mate Rental $7 \nPurchase Tickets Now: Open Skating Tickets
URL:https://fvsc.com/event/open-skating-14/2024-10-13/
CATEGORIES:Open Skating
END:VEVENT
BEGIN:VEVENT
DTSTART;TZID=America/Los_Angeles:20241015T180000
DTEND;TZID=America/Los_Angeles:20241015T200000
DTSTAMP:20260422T230902
CREATED:20240104T235848Z
LAST-MODIFIED:20260312T200455Z
UID:10012376-1729015200-1729022400@fvsc.com
SUMMARY:Open Skating ($15)
DESCRIPTION:Join us from 6pm-8pm for a roller-skating experience like no other. With a diverse playlist catering to all music tastes\, our sessions are designed to keep everyone moving and grooving. From beginners to seasoned skaters\, our rink is open to all. Elevate your evening with a blend of thrilling games and the perfect soundtrack. \nAdmission $15 / Skate Rental $8 / Skate Mate Rental $7 \nPurchase Tickets Now: Open Skating Tickets
URL:https://fvsc.com/event/open-skating-14-2/2024-10-15/
CATEGORIES:Open Skating
END:VEVENT
BEGIN:VEVENT
DTSTART;TZID=America/Los_Angeles:20241016T180000
DTEND;TZID=America/Los_Angeles:20241016T200000
DTSTAMP:20260422T230902
CREATED:20240104T235848Z
LAST-MODIFIED:20260312T200455Z
UID:10012377-1729101600-1729108800@fvsc.com
SUMMARY:Open Skating ($15)
DESCRIPTION:Join us from 6pm-8pm for a roller-skating experience like no other. With a diverse playlist catering to all music tastes\, our sessions are designed to keep everyone moving and grooving. From beginners to seasoned skaters\, our rink is open to all. Elevate your evening with a blend of thrilling games and the perfect soundtrack. \nAdmission $15 / Skate Rental $8 / Skate Mate Rental $7 \nPurchase Tickets Now: Open Skating Tickets
URL:https://fvsc.com/event/open-skating-14-2/2024-10-16/
CATEGORIES:Open Skating
END:VEVENT
BEGIN:VEVENT
DTSTART;TZID=America/Los_Angeles:20241017T180000
DTEND;TZID=America/Los_Angeles:20241017T200000
DTSTAMP:20260422T230902
CREATED:20240104T235848Z
LAST-MODIFIED:20260312T200455Z
UID:10012378-1729188000-1729195200@fvsc.com
SUMMARY:Open Skating ($15)
DESCRIPTION:Join us from 6pm-8pm for a roller-skating experience like no other. With a diverse playlist catering to all music tastes\, our sessions are designed to keep everyone moving and grooving. From beginners to seasoned skaters\, our rink is open to all. Elevate your evening with a blend of thrilling games and the perfect soundtrack. \nAdmission $15 / Skate Rental $8 / Skate Mate Rental $7 \nPurchase Tickets Now: Open Skating Tickets
URL:https://fvsc.com/event/open-skating-14-2/2024-10-17/
CATEGORIES:Open Skating
END:VEVENT
BEGIN:VEVENT
DTSTART;TZID=America/Los_Angeles:20241018T153000
DTEND;TZID=America/Los_Angeles:20241018T180000
DTSTAMP:20260422T230902
CREATED:20241113T171653Z
LAST-MODIFIED:20250101T184830Z
UID:10020104-1729265400-1729274400@fvsc.com
SUMMARY:Open Skating ($14)
DESCRIPTION:Join us every Friday from 3:30pm-6pm for a roller-skating experience like no other. With a diverse playlist catering to all music tastes\, our sessions are designed to keep everyone moving and grooving. From beginners to seasoned skaters\, our rink is open to all. Elevate your Friday afternoon with a blend of thrilling games and the perfect soundtrack. \nAdmission $14 / Skate Rental $8 / Skate Mate Rental $7 \nPurchase Tickets Now: Open Skating Tickets
URL:https://fvsc.com/event/open-skating-13-50/2024-10-18/
CATEGORIES:Open Skating
END:VEVENT
BEGIN:VEVENT
DTSTART;TZID=America/Los_Angeles:20241019T110000
DTEND;TZID=America/Los_Angeles:20241019T133000
DTSTAMP:20260422T230902
CREATED:20230926T014823Z
LAST-MODIFIED:20250101T185954Z
UID:10001967-1729335600-1729344600@fvsc.com
SUMMARY:Open Skating ($14)
DESCRIPTION:Join us for a roller-skating experience like no other. With a diverse playlist catering to all music tastes\, our sessions are designed to keep everyone moving and grooving. From beginners to seasoned skaters\, our rink is open to all. Elevate your weekend with a blend of thrilling games and the perfect soundtrack. \nAdmission $14 / Skate Rental $8 / Skate Mate Rental $7 / Stayover $6 \nPurchase Tickets Now: Open Skating Tickets \nNo Groupons accepted on Saturdays
URL:https://fvsc.com/event/open-skating-13-2/2024-10-19/
CATEGORIES:Open Skating
END:VEVENT
BEGIN:VEVENT
DTSTART;TZID=America/Los_Angeles:20241020T170000
DTEND;TZID=America/Los_Angeles:20241020T193000
DTSTAMP:20260422T230902
CREATED:20230926T014822Z
LAST-MODIFIED:20260410T192234Z
UID:10001693-1729443600-1729452600@fvsc.com
SUMMARY:Open Skating ($15)
DESCRIPTION:Join us for a skating experience set to the rhythm of fan favorites and today’s top hits. Our welcoming atmosphere caters to all skill levels\, making it the ideal destination for both beginners and seasoned skaters. Whether you’re here for the music\, the games\, or simply the joy of skating\, this session is for you. \nAdmission $15 / Skate Rental $8 / Skate Mate Rental $7 \nPurchase Tickets Now: Open Skating Tickets
URL:https://fvsc.com/event/open-skating-14/2024-10-20/
CATEGORIES:Open Skating
END:VEVENT
BEGIN:VEVENT
DTSTART;TZID=America/Los_Angeles:20241022T180000
DTEND;TZID=America/Los_Angeles:20241022T200000
DTSTAMP:20260422T230902
CREATED:20240104T235848Z
LAST-MODIFIED:20260312T200455Z
UID:10012379-1729620000-1729627200@fvsc.com
SUMMARY:Open Skating ($15)
DESCRIPTION:Join us from 6pm-8pm for a roller-skating experience like no other. With a diverse playlist catering to all music tastes\, our sessions are designed to keep everyone moving and grooving. From beginners to seasoned skaters\, our rink is open to all. Elevate your evening with a blend of thrilling games and the perfect soundtrack. \nAdmission $15 / Skate Rental $8 / Skate Mate Rental $7 \nPurchase Tickets Now: Open Skating Tickets
URL:https://fvsc.com/event/open-skating-14-2/2024-10-22/
CATEGORIES:Open Skating
END:VEVENT
BEGIN:VEVENT
DTSTART;TZID=America/Los_Angeles:20241023T180000
DTEND;TZID=America/Los_Angeles:20241023T200000
DTSTAMP:20260422T230902
CREATED:20240104T235848Z
LAST-MODIFIED:20260312T200455Z
UID:10012380-1729706400-1729713600@fvsc.com
SUMMARY:Open Skating ($15)
DESCRIPTION:Join us from 6pm-8pm for a roller-skating experience like no other. With a diverse playlist catering to all music tastes\, our sessions are designed to keep everyone moving and grooving. From beginners to seasoned skaters\, our rink is open to all. Elevate your evening with a blend of thrilling games and the perfect soundtrack. \nAdmission $15 / Skate Rental $8 / Skate Mate Rental $7 \nPurchase Tickets Now: Open Skating Tickets
URL:https://fvsc.com/event/open-skating-14-2/2024-10-23/
CATEGORIES:Open Skating
END:VEVENT
BEGIN:VEVENT
DTSTART;TZID=America/Los_Angeles:20241024T180000
DTEND;TZID=America/Los_Angeles:20241024T200000
DTSTAMP:20260422T230902
CREATED:20240104T235848Z
LAST-MODIFIED:20260312T200455Z
UID:10012381-1729792800-1729800000@fvsc.com
SUMMARY:Open Skating ($15)
DESCRIPTION:Join us from 6pm-8pm for a roller-skating experience like no other. With a diverse playlist catering to all music tastes\, our sessions are designed to keep everyone moving and grooving. From beginners to seasoned skaters\, our rink is open to all. Elevate your evening with a blend of thrilling games and the perfect soundtrack. \nAdmission $15 / Skate Rental $8 / Skate Mate Rental $7 \nPurchase Tickets Now: Open Skating Tickets
URL:https://fvsc.com/event/open-skating-14-2/2024-10-24/
CATEGORIES:Open Skating
END:VEVENT
BEGIN:VEVENT
DTSTART;TZID=America/Los_Angeles:20241025T153000
DTEND;TZID=America/Los_Angeles:20241025T180000
DTSTAMP:20260422T230902
CREATED:20241113T171653Z
LAST-MODIFIED:20250101T184830Z
UID:10020105-1729870200-1729879200@fvsc.com
SUMMARY:Open Skating ($14)
DESCRIPTION:Join us every Friday from 3:30pm-6pm for a roller-skating experience like no other. With a diverse playlist catering to all music tastes\, our sessions are designed to keep everyone moving and grooving. From beginners to seasoned skaters\, our rink is open to all. Elevate your Friday afternoon with a blend of thrilling games and the perfect soundtrack. \nAdmission $14 / Skate Rental $8 / Skate Mate Rental $7 \nPurchase Tickets Now: Open Skating Tickets
URL:https://fvsc.com/event/open-skating-13-50/2024-10-25/
CATEGORIES:Open Skating
END:VEVENT
BEGIN:VEVENT
DTSTART;TZID=America/Los_Angeles:20241026T110000
DTEND;TZID=America/Los_Angeles:20241026T133000
DTSTAMP:20260422T230902
CREATED:20230926T014823Z
LAST-MODIFIED:20250101T185954Z
UID:10001968-1729940400-1729949400@fvsc.com
SUMMARY:Open Skating ($14)
DESCRIPTION:Join us for a roller-skating experience like no other. With a diverse playlist catering to all music tastes\, our sessions are designed to keep everyone moving and grooving. From beginners to seasoned skaters\, our rink is open to all. Elevate your weekend with a blend of thrilling games and the perfect soundtrack. \nAdmission $14 / Skate Rental $8 / Skate Mate Rental $7 / Stayover $6 \nPurchase Tickets Now: Open Skating Tickets \nNo Groupons accepted on Saturdays
URL:https://fvsc.com/event/open-skating-13-2/2024-10-26/
CATEGORIES:Open Skating
END:VEVENT
BEGIN:VEVENT
DTSTART;TZID=America/Los_Angeles:20241027T170000
DTEND;TZID=America/Los_Angeles:20241027T193000
DTSTAMP:20260422T230902
CREATED:20230926T014822Z
LAST-MODIFIED:20260410T192234Z
UID:10001694-1730048400-1730057400@fvsc.com
SUMMARY:Open Skating ($15)
DESCRIPTION:Join us for a skating experience set to the rhythm of fan favorites and today’s top hits. Our welcoming atmosphere caters to all skill levels\, making it the ideal destination for both beginners and seasoned skaters. Whether you’re here for the music\, the games\, or simply the joy of skating\, this session is for you. \nAdmission $15 / Skate Rental $8 / Skate Mate Rental $7 \nPurchase Tickets Now: Open Skating Tickets
URL:https://fvsc.com/event/open-skating-14/2024-10-27/
CATEGORIES:Open Skating
END:VEVENT
BEGIN:VEVENT
DTSTART;TZID=America/Los_Angeles:20241029T180000
DTEND;TZID=America/Los_Angeles:20241029T200000
DTSTAMP:20260422T230902
CREATED:20240104T235848Z
LAST-MODIFIED:20260312T200455Z
UID:10012382-1730224800-1730232000@fvsc.com
SUMMARY:Open Skating ($15)
DESCRIPTION:Join us from 6pm-8pm for a roller-skating experience like no other. With a diverse playlist catering to all music tastes\, our sessions are designed to keep everyone moving and grooving. From beginners to seasoned skaters\, our rink is open to all. Elevate your evening with a blend of thrilling games and the perfect soundtrack. \nAdmission $15 / Skate Rental $8 / Skate Mate Rental $7 \nPurchase Tickets Now: Open Skating Tickets
URL:https://fvsc.com/event/open-skating-14-2/2024-10-29/
CATEGORIES:Open Skating
END:VEVENT
BEGIN:VEVENT
DTSTART;TZID=America/Los_Angeles:20241030T180000
DTEND;TZID=America/Los_Angeles:20241030T200000
DTSTAMP:20260422T230902
CREATED:20240104T235848Z
LAST-MODIFIED:20260312T200455Z
UID:10012383-1730311200-1730318400@fvsc.com
SUMMARY:Open Skating ($15)
DESCRIPTION:Join us from 6pm-8pm for a roller-skating experience like no other. With a diverse playlist catering to all music tastes\, our sessions are designed to keep everyone moving and grooving. From beginners to seasoned skaters\, our rink is open to all. Elevate your evening with a blend of thrilling games and the perfect soundtrack. \nAdmission $15 / Skate Rental $8 / Skate Mate Rental $7 \nPurchase Tickets Now: Open Skating Tickets
URL:https://fvsc.com/event/open-skating-14-2/2024-10-30/
CATEGORIES:Open Skating
END:VEVENT
BEGIN:VEVENT
DTSTART;TZID=America/Los_Angeles:20241101T153000
DTEND;TZID=America/Los_Angeles:20241101T180000
DTSTAMP:20260422T230902
CREATED:20241113T171653Z
LAST-MODIFIED:20250101T184830Z
UID:10020106-1730475000-1730484000@fvsc.com
SUMMARY:Open Skating ($14)
DESCRIPTION:Join us every Friday from 3:30pm-6pm for a roller-skating experience like no other. With a diverse playlist catering to all music tastes\, our sessions are designed to keep everyone moving and grooving. From beginners to seasoned skaters\, our rink is open to all. Elevate your Friday afternoon with a blend of thrilling games and the perfect soundtrack. \nAdmission $14 / Skate Rental $8 / Skate Mate Rental $7 \nPurchase Tickets Now: Open Skating Tickets
URL:https://fvsc.com/event/open-skating-13-50/2024-11-01/
CATEGORIES:Open Skating
END:VEVENT
BEGIN:VEVENT
DTSTART;TZID=America/Los_Angeles:20241102T110000
DTEND;TZID=America/Los_Angeles:20241102T133000
DTSTAMP:20260422T230902
CREATED:20230926T014823Z
LAST-MODIFIED:20250101T185954Z
UID:10016108-1730545200-1730554200@fvsc.com
SUMMARY:Open Skating ($14)
DESCRIPTION:Join us for a roller-skating experience like no other. With a diverse playlist catering to all music tastes\, our sessions are designed to keep everyone moving and grooving. From beginners to seasoned skaters\, our rink is open to all. Elevate your weekend with a blend of thrilling games and the perfect soundtrack. \nAdmission $14 / Skate Rental $8 / Skate Mate Rental $7 / Stayover $6 \nPurchase Tickets Now: Open Skating Tickets \nNo Groupons accepted on Saturdays
URL:https://fvsc.com/event/open-skating-13-2/2024-11-02/
CATEGORIES:Open Skating
END:VEVENT
BEGIN:VEVENT
DTSTART;TZID=America/Los_Angeles:20241102T130000
DTEND;TZID=America/Los_Angeles:20241102T153000
DTSTAMP:20260422T230902
CREATED:20241010T215435Z
LAST-MODIFIED:20260410T193123Z
UID:10017151-1730552400-1730561400@fvsc.com
SUMMARY:Open Skating ($14)
DESCRIPTION:Join us for a roller-skating experience like no other. With a diverse playlist catering to all music tastes\, our sessions are designed to keep everyone moving and grooving. From beginners to seasoned skaters\, our rink is open to all. Elevate your weekend with a blend of thrilling games and the perfect soundtrack. \nAdmission $14 / Skate Rental $8 / Skate Mate Rental $7 / Stayover $6 \nPurchase Tickets Now: Open Skating Tickets
URL:https://fvsc.com/event/open-skate-13-50-2/2024-11-02/
CATEGORIES:Open Skating
END:VEVENT
BEGIN:VEVENT
DTSTART;TZID=America/Los_Angeles:20241103T130000
DTEND;TZID=America/Los_Angeles:20241103T153000
DTSTAMP:20260422T230902
CREATED:20241010T215435Z
LAST-MODIFIED:20260410T193123Z
UID:10017412-1730638800-1730647800@fvsc.com
SUMMARY:Open Skating ($14)
DESCRIPTION:Join us for a roller-skating experience like no other. With a diverse playlist catering to all music tastes\, our sessions are designed to keep everyone moving and grooving. From beginners to seasoned skaters\, our rink is open to all. Elevate your weekend with a blend of thrilling games and the perfect soundtrack. \nAdmission $14 / Skate Rental $8 / Skate Mate Rental $7 / Stayover $6 \nPurchase Tickets Now: Open Skating Tickets
URL:https://fvsc.com/event/open-skate-13-50-2/2024-11-03/
CATEGORIES:Open Skating
END:VEVENT
BEGIN:VEVENT
DTSTART;TZID=America/Los_Angeles:20241103T170000
DTEND;TZID=America/Los_Angeles:20241103T193000
DTSTAMP:20260422T230902
CREATED:20230926T014822Z
LAST-MODIFIED:20260410T192234Z
UID:10018196-1730653200-1730662200@fvsc.com
SUMMARY:Open Skating ($15)
DESCRIPTION:Join us for a skating experience set to the rhythm of fan favorites and today’s top hits. Our welcoming atmosphere caters to all skill levels\, making it the ideal destination for both beginners and seasoned skaters. Whether you’re here for the music\, the games\, or simply the joy of skating\, this session is for you. \nAdmission $15 / Skate Rental $8 / Skate Mate Rental $7 \nPurchase Tickets Now: Open Skating Tickets
URL:https://fvsc.com/event/open-skating-14/2024-11-03/
CATEGORIES:Open Skating
END:VEVENT
END:VCALENDAR